BEGIN:VCALENDAR
VERSION:2.0
PRODID:-//SEA Junction - ECPv4.9.4//NONSGML v1.0//EN
CALSCALE:GREGORIAN
METHOD:PUBLISH
X-WR-CALNAME:SEA Junction
X-ORIGINAL-URL:https://seajunction.org
X-WR-CALDESC:Events for SEA Junction
BEGIN:VTIMEZONE
TZID:"Asia/Krasnoyarsk"
BEGIN:STANDARD
TZOFFSETFROM:+0700
TZOFFSETTO:+0700
TZNAME:+07
DTSTART:20260101T000000
END:STANDARD
END:VTIMEZONE
BEGIN:VEVENT
DTSTART;TZID="Asia/Krasnoyarsk":20260520T173000
DTEND;TZID="Asia/Krasnoyarsk":20260520T190000
DTSTAMP:20260421T183456
CREATED:20260421T141159Z
LAST-MODIFIED:20260421T141159Z
UID:29419-1779298200-1779303600@seajunction.org
SUMMARY:งานเสวนาหนังสือ “โหราประชาธิปไตย (Political Divinations: Making Citizens Sovereign in Buddhist Thailand)” โดย Edoardo Siani
DESCRIPTION:ในสังคมไทย “การทำนาย” ไม่ได้เป็นเพียงเรื่องของความเชื่อ หากแต่เป็นเครื่องมือที่เชื่อมโยงกับอำนาจทางการเมืองมาอย่างยาวนาน ตั้งแต่อดีตที่ความรู้ทางโหราศาสตร์ถูกจำกัดอยู่ในราชสำนักเพื่อเสริมสร้างอำนาจอธิปไตยตามจักรวาลวิทยาพุทธศาสนา จนกระทั่งหลังการเปลี่ยนแปลงการปกครอง พ.ศ. 2475 ความรู้นี้ได้แพร่กระจายสู่สาธารณะ กลายเป็นส่วนหนึ่งของชีวิตประจำวันของผู้คนทุกชนชั้น ขณะเดียวกันก็ยังคงมีบทบาทสำคัญในโครงสร้างอำนาจทางการเมือง \nในวันที่ 20 พฤษภาคม 2569 เวลา 17.30 – 19.00 น. SEA Junction ขอเชิญทุกท่านร่วมงานเสวนาหนังสือ “โหราประชาธิปไตย”  ที่ชวนสำรวจความสัมพันธ์ระหว่างการทำนาย อำนาจ และความเป็นพลเมือง ผ่านงานวิจัยภาคสนามกว่า 10 ปีของ เอโดอาร์โด ซีอานี นักมานุษยวิทยาผู้ติดตามโลกโหราศาสตร์ไทย ตั้งแต่แผงหมอดูริมทางในกรุงเทพฯ ยามค่ำคืน ไปจนถึงเครือข่ายหมอดูของชนชั้นนำที่ให้คำปรึกษาแก่ทหาร นักการเมือง และกลุ่มทุน มากกว่าการมองการทำนายในฐานะปรากฏการณ์ทางวัฒนธรรม หนังสือเล่มนี้ยังเสนอกรอบคิดใหม่ในการทำความเข้าใจการเมืองไทย ผ่านการเชื่อมโยงจักรวาลวิทยาพุทธศาสนากับการสร้างอำนาจทั้งในระดับผู้ปกครองและประชาชน พร้อมชี้ให้เห็นถึงกระบวนการที่ทำให้ “ประชาชน” กลายเป็นผู้มีอำนาจในการกำหนดชะตากรรมของตนเอง โดยภายในงานเปิดตัวจะมีการแนะนำหนังสือ พูดคุยประเด็นสำคัญจากงานวิจัย และแลกเปลี่ยนมุมมองต่อบทบาทของความเชื่อ การทำนาย และการเมืองในสังคมไทยร่วมสมัย งานเสวนานี้จะจัดเป็นภาษาไทย จัดขึ้นที่ SEA Junction ห้อง 407-8 ชั้น 4 หอศิลป์กรุงเทพ \nร่วมเสวนาโดย \n\nเอโดอาร์โด ซีอานี (Edoardo Siani)\, ผู้เขียน\nวิราวรรณ นฤปิติ\, บรรณาธิการ\nอาสา คำภา\, ผู้ร่วมเสวนา\n\n \nงานของ SEA Junction สามารถเข้าร่วมได้โดยไม่มีค่าใช้จ่าย หากแต่เราจะยินดีเป็นอย่างยิ่งหากคุณร่วมบริจาคเพื่อเป็นการสมทบทุนสนับสนุนให้เราสามารถทำกิจกรรมอื่นๆ อีกในอนาคต \nBio ผู้ร่วมเสวนา  \nเอโดอาร์โด ซีอานิ (Edoardo Siani) ผู้ช่วยศาสตราจารย์ มหาวิทยาลัยเวนิส คาฟอสคารี (Ca’ Foscari University of Venice) สำเร็จการศึกษาระดับปริญญาเอกด้านมานุษยวิทยาจาก SOAS มหาวิทยาลัยลอนดอน และเคยดำรงตำแหน่งนักวิจัยและผู้ช่วยศาสตราจารย์ที่มหาวิทยาลัยเกียวโต นักวิจัยที่ SOAS และ อาจารย์พิเศษที่มหาวิทยาลัยธรรมศาสตร์ \nวิราวรรณ นฤปิติ (Wirawan Naruepiti) นักวิจัยจากสถาบันไทยคดีศึกษา สำเร็จการศึกษาปริญญาเอกด้านประวัติศาสตร์จากมหาวิทยาลัยธรรมศาสตร์ ทำวิจัยด้านประวัติศาสตร์การเมืองไทยร่วมสมัยและประวัติศาสตร์ศาสนาพุทธสมัยใหม่ ปัจจุบันมีผลงานแปลหนังสือ Capitalism Magic Thailand Modernity with Enchantment โดย ศ.ดร.ปีเตอร์ แจ๊คสัน และบรรณาธิการแปล Political Divinations: Making Citizens Sovereign in Buddhist Thailand โดย ผศ.ดร. เอโดอาร์โด เซียนี แปลโดย ดร.ปรีดี หงษ์สต้น สำนักพิมพ์มติชน \nอาสา คำภา (Asa Kumpha) สำเร็จการศึกษาปริญญาเอกสาขาประวัติศาสตร์ จากมหาวิทยาลัยเชียงใหม่ ปัจจุบันเป็นนักวิจัยชำนาญการ สถาบันไทยคดีศึกษา มหาวิทยาลัยธรรมศาสตร์ ทำวิจัยประเด็นประวัติศาสตร์ท้องถิ่นสุพรรณบุรีและประวัติศาสตร์การเมืองไทยยุคสงครามเย็น และเป็นเจ้าของผลงาน กว่าจะครองอำนาจนำ (สำนักพิมพ์ฟ้าเดียวกัน) \nจัดโดย \nSEA Junction มีเป้าหมายเพื่อกระชับความเข้าใจและความซาบซึ้งในเอเชียตะวันออกเฉียงใต้ ในทุกๆ มิติของสังคมวัฒนธรรม นับตั้งแต่ศิลปะ และวิถีชีวิต ไปจนถึงเศรษฐกิจและการพัฒนา ตั้งอยู่ที่ห้อง 408 ของหอศิลปวัฒนธรรมแห่งกรุงเทพมหานคร หรือ หอศิลป์ฯ กรุงเทพ (อยู่ตรงกันข้ามกับศูนย์การค้ามาบุญครอง ใกล้กับรถไฟฟ้าบีทีเอส สถานีศูนย์กีฬาแห่งชาติ) ซี จังชั่น อำนวยการให้สาธารณะเข้าถึงแหล่งความรู้ และการแลกเปลี่ยนระหว่างนักเรียนรักศึกษา\, นักปฏิบัติ และผู้ที่มีความชื่นชอบในเอเชียตะวันออกเฉียงใต้ สำหรับข้อมูลเพิ่มเติมโปรดดู www.seajunction.org \nShare on FacebookTweetFollow usSave
URL:https://seajunction.org/event/%e0%b8%87%e0%b8%b2%e0%b8%99%e0%b9%80%e0%b8%aa%e0%b8%a7%e0%b8%99%e0%b8%b2%e0%b8%ab%e0%b8%99%e0%b8%b1%e0%b8%87%e0%b8%aa%e0%b8%b7%e0%b8%ad-%e0%b9%82%e0%b8%ab%e0%b8%a3%e0%b8%b2%e0%b8%9b%e0%b8%a3/
LOCATION:SEA Junction\, 4th floor\, BACC
CATEGORIES:Event
END:VEVENT
END:VCALENDAR