BEGIN:VCALENDAR
VERSION:2.0
PRODID:-//SEA Junction - ECPv4.9.4//NONSGML v1.0//EN
CALSCALE:GREGORIAN
METHOD:PUBLISH
X-WR-CALNAME:SEA Junction
X-ORIGINAL-URL:https://seajunction.org
X-WR-CALDESC:Events for SEA Junction
BEGIN:VTIMEZONE
TZID:"Asia/Krasnoyarsk"
BEGIN:STANDARD
TZOFFSETFROM:+0700
TZOFFSETTO:+0700
TZNAME:+07
DTSTART:20170101T000000
END:STANDARD
END:VTIMEZONE
BEGIN:VEVENT
DTSTART;VALUE=DATE:20171127
DTEND;VALUE=DATE:20171201
DTSTAMP:20260422T094213
CREATED:20170109T040536Z
LAST-MODIFIED:20170216T020440Z
UID:4395-1511740800-1512086399@seajunction.org
SUMMARY:9th Asia Pacific Conference on Reproductive and Sexual Health and Rights
DESCRIPTION:Leave NO ONE Behind! Justice in Sexual and Reproductive Health \nThe Asia-Pacific is an area of rapid growth and transition. The benefits and costs of development are\, however\, not shared equitably among the countries and peoples of the region. In health\, and even more in sexual and reproductive health\, poor and marginalised communities miss out on good quality treatment and services. \nIncreased commercialisation and privatisation of health care\, while expanding choice for the better off\, results in double standards and restricted access for the underprivileged. This situation is particularly worrisome because universal health coverage is absent or inadequate\, and sexual and reproductive health programmes are not always included. Political\, cultural and religious values discriminate against women and gender and sexual minorities\, and social exclusion is a real barrier to accessing information and services. \nTo address these and other equity challenges\, there is a need to promote justice in and through sexual and reproductive health. This requires a rethinking of policies and practices to ensure that marginalised and disadvantaged peoples are placed centre-stage in the regional and national responses. To support such work\, civil society movements should participate as equal partners in decision-making to promote person-centred sexual and reproductive health and health care. \nTo bring about the SDG promise of ‘nobody’ being left behind\, let’s work together towards justice in sexual and reproductive health. \nSub-themes:\n1. Overcoming social\, cultural and religious barriers in sexual and reproductive health\n2. Towards a just economic order for sexual and reproductive health\n3. Strengthening justice systems for sexual and reproductive health and rights\n4. Making good quality sexual and reproductive health education available to all\n5. Advancing justice and equity in sexual and reproductive health and health care\n \nSource: http://apcrshr9vn.org\nShare on FacebookTweetFollow usSave
URL:https://seajunction.org/event/9th-asia-pacific-conference-reproductive-sexual-health-rights-2/
LOCATION:Hanoi\, Vietnam
CATEGORIES:Conferences
END:VEVENT
END:VCALENDAR