BEGIN:VCALENDAR
VERSION:2.0
PRODID:-//SEA Junction - ECPv4.9.4//NONSGML v1.0//EN
CALSCALE:GREGORIAN
METHOD:PUBLISH
X-WR-CALNAME:SEA Junction
X-ORIGINAL-URL:https://seajunction.org
X-WR-CALDESC:Events for SEA Junction
BEGIN:VTIMEZONE
TZID:"Asia/Krasnoyarsk"
BEGIN:STANDARD
TZOFFSETFROM:+0700
TZOFFSETTO:+0700
TZNAME:+07
DTSTART:20170101T000000
END:STANDARD
END:VTIMEZONE
BEGIN:VEVENT
DTSTART;VALUE=DATE:20171122
DTEND;VALUE=DATE:20171124
DTSTAMP:20260422T041443
CREATED:20170811T161320Z
LAST-MODIFIED:20170811T161320Z
UID:7122-1511308800-1511481599@seajunction.org
SUMMARY:The 9th International Conference on Public Health Among Greater Mekong Sub Regional Countries
DESCRIPTION:Theme of the Conference \nMain theme of the conference\nAdopting Healthy Lifestyle: Combating NCDs \nSub-themes of the conference:\nThe proposed sub-themes of the conference are: \n1.Strengthening Public Health Policy and Health System for NCDs \n2.Universal Health Coverage for Combating NCDs \n3.Evidence on Prevention and Control of NCDs \n4.Promoting Healthy Lifestyle for Combating NCDs \nObjectives of the conference:\nSpecific objectives of the conference are: \n1.To provide opportunity and platform for academics\, researchers\, students and public health experts actively engaged in different areas of public health in GMS sub-region countries to share and discuss their research findings\, ideas\, experiences and lessons on healthy lifestyle and combating NCDs through research\, policies\, programmatic interventions and services. \n2.To raise awareness about the situation and challenges of NCDs for achieving Universal Health Coverage (UHC) by strengthening the role and capacities of public health professionals among GMS countries. \n3.To enhance the quality and relevance of surveillance and research on prevention and control of NCDs among the GMS countries. \n4.To strengthen collaboration on addressing promoting healthy lifestyle for combating NCDs among the GMS countries \nExpected outcomes of the conference:\nTo result in enhanced understanding\, professional networking and collaboration on promoting healthy lifestyle and addressing NCDs among public health institutions from countries within Greater Mekong Sub-region through research\, teaching\, policy analysis and programmatic interventions. \n  \nSource: http://gms-icph9.com/ \nShare on FacebookTweetFollow usSave
URL:https://seajunction.org/event/9th-international-conference-public-health-among-greater-mekong-sub-regional-countries/
CATEGORIES:Conferences
END:VEVENT
END:VCALENDAR