BEGIN:VCALENDAR
VERSION:2.0
PRODID:-//SEA Junction - ECPv4.9.4//NONSGML v1.0//EN
CALSCALE:GREGORIAN
METHOD:PUBLISH
X-WR-CALNAME:SEA Junction
X-ORIGINAL-URL:https://seajunction.org
X-WR-CALDESC:Events for SEA Junction
BEGIN:VTIMEZONE
TZID:"Asia/Krasnoyarsk"
BEGIN:STANDARD
TZOFFSETFROM:+0700
TZOFFSETTO:+0700
TZNAME:+07
DTSTART:20170101T000000
END:STANDARD
END:VTIMEZONE
BEGIN:VEVENT
DTSTART;VALUE=DATE:20170724
DTEND;VALUE=DATE:20170812
DTSTAMP:20260422T201240
CREATED:20170315T021909Z
LAST-MODIFIED:20170315T021909Z
UID:5640-1500854400-1502495999@seajunction.org
SUMMARY:AEI-ASEM Summer School 2017
DESCRIPTION:AEI-ASEM SUMMER SCHOOL will offer up to 7 grants to Southeast Asian and European students accepted for the 3-week AEI-ASEM Summer School to be held in Kuala Lumpur and Brussels. The grant will cover the USD1000 fees for the Summer School and include a travel subsidy of 300€ to help cover the cost of travel.\n \nStudents interested in applying for the grant should submit their registration for the Summer School before 24 April 2017. This should be accompanied by a brief personal motivation statement of 500 – 600 words on their interest in the theme of the Summer School “Cultural Pluralism in Asia and Europe”.\n \nThe award for the grant will be made by a Select Committee comprising faculty staff from the Partner Universities in the JMN\, and decision made will be final.\n \nSource: http://aei-asc.edu.my/index.php \nShare on FacebookTweetFollow usSave
URL:https://seajunction.org/event/aei-asem-summer-school-2017/
LOCATION:Kuala Lumpur\, Malaysia and Brussels\, Belgium
CATEGORIES:Courses
END:VEVENT
END:VCALENDAR