BEGIN:VCALENDAR
VERSION:2.0
PRODID:-//SEA Junction - ECPv4.9.4//NONSGML v1.0//EN
CALSCALE:GREGORIAN
METHOD:PUBLISH
X-WR-CALNAME:SEA Junction
X-ORIGINAL-URL:https://seajunction.org
X-WR-CALDESC:Events for SEA Junction
BEGIN:VTIMEZONE
TZID:"Asia/Krasnoyarsk"
BEGIN:STANDARD
TZOFFSETFROM:+0700
TZOFFSETTO:+0700
TZNAME:+07
DTSTART:20200101T000000
END:STANDARD
END:VTIMEZONE
BEGIN:VEVENT
DTSTART;VALUE=DATE:20200629
DTEND;VALUE=DATE:20200701
DTSTAMP:20260425T164431
CREATED:20200530T065952Z
LAST-MODIFIED:20200530T065952Z
UID:16433-1593388800-1593561599@seajunction.org
SUMMARY:Applications for the 2020 Regional Course in International Law for Asia-Pacific
DESCRIPTION:Applications for the 2020 Regional Course in International Law for Asia-Pacific are now being accepted. The deadline for the receipt of complete applications is 30 June 2020. \nGeneral information \nThe United Nations Regional Course in International Law for Asia-Pacific is organized by the Codification Division of the United Nations Office of Legal Affairs in cooperation with the Government of the Kingdom of Thailand and the United Nations Economic and Social Commission for Asia and the Pacific (ESCAP). \nSubject to the developments related to COVID-19\, the Regional Course will be held at the facilities of ESCAP in Bangkok\, from 16 November to 11 December 2020. The Regional Course will be conducted in English. The course will accommodate up to 30 participants\, including a limited number of spaces for self-funded participants. \n  \nSource: https://legal.un.org/poa/rcil/asia/index.html \nShare on FacebookTweetFollow usSave
URL:https://seajunction.org/event/applications-for-the-2020-regional-course-in-international-law-for-asia-pacific/
LOCATION:Bangkok\, Thailand\, Bangkok\, Bangkok\, Thailand
CATEGORIES:Courses
END:VEVENT
END:VCALENDAR