BEGIN:VCALENDAR
VERSION:2.0
PRODID:-//SEA Junction - ECPv4.9.4//NONSGML v1.0//EN
CALSCALE:GREGORIAN
METHOD:PUBLISH
X-WR-CALNAME:SEA Junction
X-ORIGINAL-URL:https://seajunction.org
X-WR-CALDESC:Events for SEA Junction
BEGIN:VTIMEZONE
TZID:"Asia/Krasnoyarsk"
BEGIN:STANDARD
TZOFFSETFROM:+0700
TZOFFSETTO:+0700
TZNAME:+07
DTSTART:20200101T000000
END:STANDARD
END:VTIMEZONE
BEGIN:VEVENT
DTSTART;VALUE=DATE:20200831
DTEND;VALUE=DATE:20200901
DTSTAMP:20260425T143901
CREATED:20200713T015140Z
LAST-MODIFIED:20200713T015140Z
UID:16715-1598832000-1598918399@seajunction.org
SUMMARY:ASEAN Energy Youth Award 2020
DESCRIPTION:The ASEAN Centre for Energy (ACE) is pleased to announce the 1st ASEAN Energy Youth Award in recognition of young educators’ valuable contribution to nation-building\, sustainable development\, and energy transition. \nThe theme of the first award is “Advancing Sustainable Development and Energy Transition through Energy Efficiency and Renewable Energy in the ASEAN Region”. This award is organised by ACE and supported by the Southeast Asian Ministers of Education Organisation (SEAMEO)\, the ASEAN Secretariat\, and the ASEAN specialised energy bodies. \nThe Guideline Manual is available here to use it as the reference by the Applicants of the ASEAN Member States joining the ASEAN Energy Youth Award 2020. \nQualifications of the Applicants\n\nThe award is open to ASEAN young educators.\nThe award is open to enrolled High School and University/College (bachelor’s degree) Students.\nThe award is eligible for both individual and team.\nEach school can submit an entry in 3 categories. However\, the individual /team can only participate in 1 category.\n\n  \nSource: https://aseanenergy.org/event/aeya2020/ \nShare on FacebookTweetFollow usSave
URL:https://seajunction.org/event/asean-energy-youth-award-2020/
LOCATION:ASEAN Centre for Energy
CATEGORIES:Opportunities
END:VEVENT
END:VCALENDAR