BEGIN:VCALENDAR
VERSION:2.0
PRODID:-//SEA Junction - ECPv4.9.4//NONSGML v1.0//EN
CALSCALE:GREGORIAN
METHOD:PUBLISH
X-WR-CALNAME:SEA Junction
X-ORIGINAL-URL:https://seajunction.org
X-WR-CALDESC:Events for SEA Junction
BEGIN:VTIMEZONE
TZID:"Asia/Krasnoyarsk"
BEGIN:STANDARD
TZOFFSETFROM:+0700
TZOFFSETTO:+0700
TZNAME:+07
DTSTART:20200101T000000
END:STANDARD
END:VTIMEZONE
BEGIN:VEVENT
DTSTART;VALUE=DATE:20200810
DTEND;VALUE=DATE:20200811
DTSTAMP:20260425T183028
CREATED:20200710T073136Z
LAST-MODIFIED:20200710T073136Z
UID:16709-1597017600-1597103999@seajunction.org
SUMMARY:ASEAN FORUM 2020: RESPONSES TO COVID-19
DESCRIPTION:As 2020 began\, the world watched as the COVID-19 pandemic slowly spread its way across the globe. Across the countries of ASEAN\, this unprecedented event played out in diverse ways. Countries like Vietnam demonstrated highly effective ways of managing the virus\, whereas others\, like Indonesia\, spent considerable time denying its existence. These experiences reflect quite different responses to the pandemic – differences that underscore the diversity of political\, economic\, and health landscapes across the ASEAN region. \nJoin a group of experts from the University of Sydney for a week-long exploration into how ASEAN and the countries it comprises have responded to the COVID-19 pandemic at a government level\, economically\, and in terms of health and livelihoods. This event will be run entirely online over the course of two weeks. \nSpeakers include: \n\nDr. Thushara Dibley\, University of Sydney\nAssociate Professor Gregory Fox\, University of Sydney\nAssociate Professor Jeff Neilson\, University of Sydney\nDr. Sandra Seno-Alday\, University of Sydney\nDr. Aim Sinpeng\, University of Sydney\n\nEach specialist will record a 5-minute video presentation that will be made available online in the week of August 3-5\, 2020. They are instructed to pitch their talk to an interested\, but not necessarily academic\, audience\, so the talks will be able to be enjoyed by a wide range of people.  \nIn addition\, our speakers will be recording 15-minute podcasts about the same topics\, which will also be made available in the week of August 3-5\, 2020. \nFollowing each presentation\, audience members will be invited to send in their questions by commenting under the videos by 3:00 AM EST (5:00 PM AEST)\, August 10\, 2020. The speakers will then respond to the main questions raised by the audience in a panel discussion\, which will be available on August 12\, 2020. \nAll videos recorded as part of ASEAN Forum 2020: Responses to COVID-19 will be made available for public viewing on our Facebook page and our YouTube channel from August 3\, 2020 onwards. All podcasts will be made available on all major podcast platforms. \nClick here for more information\, including the full program of events and details about the speakers. \n  \nSource: https://nysean.org/events/2020/8/3/online-event-asean-forum-2020-responses-to-covid-19 \nShare on FacebookTweetFollow usSave
URL:https://seajunction.org/event/asean-forum-2020-responses-to-covid-19/
LOCATION:Online
CATEGORIES:Conferences
END:VEVENT
END:VCALENDAR