BEGIN:VCALENDAR
VERSION:2.0
PRODID:-//SEA Junction - ECPv4.9.4//NONSGML v1.0//EN
CALSCALE:GREGORIAN
METHOD:PUBLISH
X-WR-CALNAME:SEA Junction
X-ORIGINAL-URL:https://seajunction.org
X-WR-CALDESC:Events for SEA Junction
BEGIN:VTIMEZONE
TZID:"Asia/Krasnoyarsk"
BEGIN:STANDARD
TZOFFSETFROM:+0700
TZOFFSETTO:+0700
TZNAME:+07
DTSTART:20230101T000000
END:STANDARD
END:VTIMEZONE
BEGIN:VEVENT
DTSTART;VALUE=DATE:20230121
DTEND;VALUE=DATE:20230122
DTSTAMP:20260422T185638
CREATED:20230112T032356Z
LAST-MODIFIED:20230112T032356Z
UID:21680-1674259200-1674345599@seajunction.org
SUMMARY:ASEAN Foundation Internship Programme
DESCRIPTION:To solidify and further explore the potential of the ASEAN youths\, the ASEAN Foundation provides an Internship Programme. The programme offers undergraduate and postgraduate students from the ten ASEAN member countries and the dialogue partners to engage in a two to six months long internship programme that provides a wide range of activities of learning and contributing to ASEAN community-building processes towards a dynamic\, prosperous\, and resilient region. \nThe interns are working under the Foundation key working units\, such as Programme Unit\, Communications Unit\, and Operations Unit\, to further unleash their skills and potential. The interns are tasked to work on a day-to-day basis with responsibilities surrounding programme and research proposal development\, implementation\, and monitoring. They might also be asked to develop contents for the Foundation’s social media platforms for better outreach. \nThis opportunity is open until 21 January 2023. The internship is available at our three units of work: communications\, operations and programme. Click the links below to learn more and apply: \n\nCommunications Intern\nOperations Intern\nProgramme Intern\n\nIn the ASEAN Foundation Online Internship Programme\, interns are suggested to work remotely from the comfort of their home or dormitory. However\, the interns can also opt work from the Foundation’s office at ASEAN Secretariat Heritage Build\, Jakarta\, Indonesia\, which requires further discussion with the HR team of ASEAN Foundation.   \nYou can read and apply here \nShare on FacebookTweetFollow usSave
URL:https://seajunction.org/event/asean-foundation-internship-programme/
CATEGORIES:Opportunities
END:VEVENT
END:VCALENDAR