BEGIN:VCALENDAR
VERSION:2.0
PRODID:-//SEA Junction - ECPv4.9.4//NONSGML v1.0//EN
CALSCALE:GREGORIAN
METHOD:PUBLISH
X-WR-CALNAME:SEA Junction
X-ORIGINAL-URL:https://seajunction.org
X-WR-CALDESC:Events for SEA Junction
BEGIN:VTIMEZONE
TZID:"Asia/Krasnoyarsk"
BEGIN:STANDARD
TZOFFSETFROM:+0700
TZOFFSETTO:+0700
TZNAME:+07
DTSTART:20180101T000000
END:STANDARD
END:VTIMEZONE
BEGIN:VEVENT
DTSTART;VALUE=DATE:20181010
DTEND;VALUE=DATE:20181011
DTSTAMP:20260425T025914
CREATED:20180927T022010Z
LAST-MODIFIED:20180927T022029Z
UID:9889-1539129600-1539215999@seajunction.org
SUMMARY:ASEAN Youth Engagement Summit (AYES) 2019
DESCRIPTION:REGULAR WAVE APPLICATION IS NOW OFFICIALLY OPEN! \nIn support of the 51st Anniversary of the Association of Southeast Asian Nations (ASEAN)\, the second ASEAN Youth Engagement Summit (AYES) is taking place on FEBRUARY 6-9\, 2019 in MANILA\, PHILIPPINES. \nAPPLY NOW: http://bit.ly/AYESRegularWaveApplicationForm \nLIMITED SLOTS ONLY! Delegates can receive a maximum of 50% scholarship for the delegate fee! \nRegular wave applications will close on OCTOBER 20\, 2018\, 11:59 PM! \nDo not miss this chance to be one of our delegates and be part of a bigger\, better\, and bolder AYES 2019. \nApplicants must: \n\nBe 18-35 years old\nBe interested in ASEAN affairs\nHave a passport that is SIX months valid\n\nFor more queries\, feel free to reach us through our email: (delegaterelations2019.ayes@gmail.com) \nLIKE US ON FACEBOOK: https://www.facebook.com/OfficialAYES/ \nFOLLOW US ON INSTAGRAM: https://www.instagram.com/officialayes/ \nFOLLOW US ON TWITTER: https://twitter.com/OfficialAYES \nSource: https://docs.google.com/forms/d/e/1FAIpQLSdM9ZutnQVP8VzORK3wE_pe9rJpFhsO9te4BnnYEJ7I0O258w/viewform \nShare on FacebookTweetFollow usSave
URL:https://seajunction.org/event/asean-youth-engagement-summit-ayes-2019/
CATEGORIES:Conferences
END:VEVENT
END:VCALENDAR