BEGIN:VCALENDAR
VERSION:2.0
PRODID:-//SEA Junction - ECPv4.9.4//NONSGML v1.0//EN
CALSCALE:GREGORIAN
METHOD:PUBLISH
X-WR-CALNAME:SEA Junction
X-ORIGINAL-URL:https://seajunction.org
X-WR-CALDESC:Events for SEA Junction
BEGIN:VTIMEZONE
TZID:"Asia/Krasnoyarsk"
BEGIN:STANDARD
TZOFFSETFROM:+0700
TZOFFSETTO:+0700
TZNAME:+07
DTSTART:20170101T000000
END:STANDARD
END:VTIMEZONE
BEGIN:VEVENT
DTSTART;VALUE=DATE:20171109
DTEND;VALUE=DATE:20171116
DTSTAMP:20260421T215633
CREATED:20171109T063603Z
LAST-MODIFIED:20171109T063603Z
UID:8021-1510185600-1510790399@seajunction.org
SUMMARY:Call for Applications: YSEALI Professional Fellows Program (SPRING 2018)
DESCRIPTION:\nThe American Council of Young Political Leaders (ACYPL) and the U.S Department of State\, in cooperation with The United States – Indonesia Society (USINDO) are pleased to announce the application process and deadlines for the Spring 2018 Young Southeast Asian Leaders Initiative (YSEALI) Professional Fellows Program. The YSEALI is the US government’s signature program to strengthen leadership development as well as networking in Southeast Asia\, particularly between young leaders from United States and Southeast Asia. \nThe YSEALI PFP Spring 2018 will be held from April 21 – June 2\, 2018. This year will focus on the theme of governance and society. It is open to young political and policy leaders from Indonesia\, Brunei\, Cambodia\, Laos\, Malaysia\, Myanmar\, the Philippines\, Singapore\, Thailand\, Vietnam. The YSEALI PFP includes a week of political and policy discussions in Washington\, DC; a month-long individual fellowship in an American office; and participation in a three-day global Professional Fellows Congress in Washington\, DC. This exchange of ideas and knowledge will serve as a foundation on which to establish sustainable two-way partnerships between the young political and policy professionals from these Southeast Asian countries and their American counterparts\, with the goal of strengthening good governance\, enhancing economic empowerment\, and increasing civic engagement. With the invaluable experience gained from this fellowship\, the young leaders from Southeast Asia may identify their generation’s greatest challenges in the region and develop ideas in tackling them. \nEligibility Requirements: \n\nMust be a citizen of Indonesia\, Brunei\, Cambodia\, Laos\, Myanmar\, Malaysia\, Philippines\, Singapore\, Thailand\, or Vietnam and have a professional background and project related to the legislative process and governance\nBetween the ages of 25-35\nFluent in oral and written English\nProvide a comprehensive\, well-conceived written framework for a project to benefit civil society or governance in your home country\nSelf-directed and able to work effectively in cross-cultural settings\nDemonstrated commitment to public service\nLeadership potential in the government\, private sector\, or civil society\nCommitted to organizing an 7-10 day program in their country for an American mentor\nCommitted to become an active member in the YSEALI community\nCannot hold a dual-US citizenship or have traveled on a J-1 VISA for a Department of State sponsored program in the past two years.\n\nInternational Fellows Overview\nThe international fellows from each country will travel to Washington\, DC for a 5-day program orientation and federal government overview as well as cultural outings.\nEach fellow will participate in a 4-week intensive fellowship in a separate political\, policy\, or civil society office with day-to-day mentoring and guidance from a single point of contact\, their fellowship host. The fellows will meet their American mentor\, an ACYPL alumni\, to attend meetings pertaining to current events in the area\, and together will develop action plans for a series of follow-on activities to be conducted in the fellows’ home country.\nAt the conclusion of the program\, all international fellows will return to Washington\, DC for a 3-day Professional Fellows Congress where they will interact and share their experiences with other international fellows from different programs. \n\n\nUpon returning to their home countries\, select international fellows will work with their American mentors to create an 7-10 day program in which the American mentor will visit each of fellows’ places of employment to learn more about what they do\, assist in the continuing implementation of their project\, meet with local leaders\, as well as enjoy cultural outings.\nApplication Instructions and Deadline: \n\n\nThe application is accessible through here or if you would like to see the program at-a-glance you can access this link first. Kindly note\, we do not accept direct or hard copy submission. \n\n\nEligible candidates are required to submit the complete application form by November 17\, 2017 the latest. An incomplete or late submission will not be considered. If you were recommended or learned about this program from USINDO (ACYPL’s in-country program partner)\, please indicate it in the application form. \n\n\nOnly shortlisted candidates will be interviewed by the panel consisting of representatives from ACYPL\, U.S. Embassy\, and USINDO.\nShould you have any further inquiries and questions\, please contact Mr. Elliot Bell-Krasnerat at Ebkrasner@acypl.org or Ms. Kaylee Boalt at kboalt@acypl.org or by phone at +(1) 202-857-0999. \n\nShare on FacebookTweetFollow usSave
URL:https://seajunction.org/event/call-applications-yseali-professional-fellows-program-spring-2018/
LOCATION:Washington\, D.C.\, United State of America
CATEGORIES:Opportunities
END:VEVENT
END:VCALENDAR