BEGIN:VCALENDAR
VERSION:2.0
PRODID:-//SEA Junction - ECPv4.9.4//NONSGML v1.0//EN
CALSCALE:GREGORIAN
METHOD:PUBLISH
X-WR-CALNAME:SEA Junction
X-ORIGINAL-URL:https://seajunction.org
X-WR-CALDESC:Events for SEA Junction
BEGIN:VTIMEZONE
TZID:"Asia/Krasnoyarsk"
BEGIN:STANDARD
TZOFFSETFROM:+0700
TZOFFSETTO:+0700
TZNAME:+07
DTSTART:20190101T000000
END:STANDARD
END:VTIMEZONE
BEGIN:VEVENT
DTSTART;VALUE=DATE:20190223
DTEND;VALUE=DATE:20190226
DTSTAMP:20260425T121053
CREATED:20190221T024428Z
LAST-MODIFIED:20190221T024428Z
UID:12171-1550880000-1551139199@seajunction.org
SUMMARY:Call for Applications: Regional Human Rights Research Initiative 2019
DESCRIPTION:Registration: 25 February 2019 \nAs part of the Regional Asia Programme on Human Rights and Sustainable Development 2017-2021\, the Raoul Wallenberg Institute of Human Rights and Humanitarian Law (RWI) hereby calls for applications from academics (both researchers and lecturers) affiliated with academic institutions in countries eligible for international development cooperation in Asia and the Pacific1 to participate in our regional Human Rights Research Initiative 2019. \nAbout the Research Initiative\nThis initiative aims at strengthening research skills and thematic knowledge on connections between human rights\, gender equality and environment in the Asia region\, with the ultimate objective to influence knowledge\, policy\, practice and discourse. Thus the initiative’s focus is to strengthen the capacities of academics to contribute to relevant policy and legal developments\, support cross-border exchanges and engagement\, and encourage more academics from human rights and other fields to participate in international and regional processes. \nFor more information: Call for Applications RRI 2019 \nApplicants should: \n\nBe citizens of eligible countries in Asia\nBe affiliated to an academic institution in eligible countries (this includes current PhD researchers)\nBe committed and available to take part in ALL steps of the research initiative and develop a good working relation with the mentors\nBe prepared to work collaboratively with another participant on the joint research paper\nBe willing to actively listen and engage with other academic disciplines represented in the group\nBe innovative and interested to explore how the skills obtained could be used\, including within current or planned teaching at affiliated institutions\n\nDeadline\nIf you are interested in taking part in this initiative\, please submit the following\, in English\, by 25 February 2019 via email to RWI through Ms Chen Tingting: chen.tingting@rwi.lu.se \n\nApplication Form\nResearch proposal\nMotivation letter\nCV\nWriting sample in English (an article\, book chapter\, report\, essay or any piece of academic writing)\nDocument of proficiency in English if availableAny questions regarding the initiative\, requirements and arrangements\, can be put forward to Ms Chen Tingting on the email address provided above.\n\nApplication form: Application Form RRI 2019 \nShare on FacebookTweetFollow usSave
URL:https://seajunction.org/event/call-for-applications-regional-human-rights-research-initiative-2019/
LOCATION:asia
CATEGORIES:Opportunities
END:VEVENT
END:VCALENDAR