BEGIN:VCALENDAR
VERSION:2.0
PRODID:-//SEA Junction - ECPv4.9.4//NONSGML v1.0//EN
CALSCALE:GREGORIAN
METHOD:PUBLISH
X-WR-CALNAME:SEA Junction
X-ORIGINAL-URL:https://seajunction.org
X-WR-CALDESC:Events for SEA Junction
BEGIN:VTIMEZONE
TZID:"Asia/Krasnoyarsk"
BEGIN:STANDARD
TZOFFSETFROM:+0700
TZOFFSETTO:+0700
TZNAME:+07
DTSTART:20240101T000000
END:STANDARD
END:VTIMEZONE
BEGIN:VEVENT
DTSTART;VALUE=DATE:20240626
DTEND;VALUE=DATE:20240630
DTSTAMP:20260425T140749
CREATED:20240607T030618Z
LAST-MODIFIED:20240607T030618Z
UID:25372-1719360000-1719705599@seajunction.org
SUMMARY:Call for Participants: ASEAN Youth Environmental Action 2024
DESCRIPTION:Environmental degradation including climate change and global warming\, is a daunting issue that needs a swift response and concerted efforts by the international community. Global warming is worsening due to rising temperatures and greenhouse gas emissions. The urgent mitigation efforts are crucial. \nAt the ASEAN regional level\, the issue of environmental degradation has become a major concern. The ASEAN Secretariat publication states that ASEAN is “home” to 20 percent of the world’s species and is the center of the world’s marine biodiversity. Now\, ASEAN is also facing the challenge of environmental degradation. \nThe action needed now is no longer just anticipation\, but mitigation. These impacts do not recognize national borders\, thus requiring cross-border cooperation to manage them. \nTo optimize the mitigation of environmental damage that has already occurred synergy from all generations is needed. The youth in the millennial generation and  generation Z are the most important part of this effort. Therefore\, collaboration  between young generations is very important to build commitment and real action to  save the environment. \nYou are invited in mitigating the Climate Change\, on the ASEAN YOUTH ENVIRONMENTAL ACTION 2024 with the main theme “HEAT UP THE PLANS\,  COOL DOWN THE EARTH” organized by International Relation Students Association of Universitas Budi Luhur (HIMAHI)\, as a true collaborative effort upon the Climate Change issue. \nParticipants expect to follow several activities namely; \n\nEnvironmental Dialogue\nFGDs that will be discussing prepared essay made by participants under\n\nclimate change topics \n\nPlenary session\, presenting the result of recommendations\nReal action of Tree Planting\n\nWith the following schedules; \nTime and date : 26-29th of June\, 2024  \n(29th activities is optional)  \nLocation of Venue : Universitas Budi Luhur \nYouths will be actively discussed in FGD on the essay that was made beforehand\, that is expected to result in a recommendation or resolution to issue raised on the essay. and later will present in the Plenary Meeting\, and have a question and answer session in the Plenary. \nHIMAHI Budi Luhur will provide facilities for participants namely\, Accommodation which is a hotel for lodging along the event\, we dont provide the tickets for transportation from the the participants stay to Jakarta\, however we would provide transportation to take the participants from the Airport or Station to the Hotel. \nWe serves meals from breakfast to dinner along the event. Participants will be given certificates of appreciation and will also be awarded for the best essay on each topic. Participant registration can be done through https://forms.gle/3sXyh1fo2oAnRv4W6 \nContact person +62 81 337365616 Violla \nEmail: himahijaya@budiluhur.ac.id \nregistration could be applied to the 8th of June 2024  \nWe attached a Travel Note for participants to get to know the location and nearby places along they staying in Jakarta\, below through; \nhttps://himahi.budiluhur.ac.id/ \nMore info and schedule: CALL for PARTICIPANTS AYEA.24!.pdf \nShare on FacebookTweetFollow usSave
URL:https://seajunction.org/event/call-for-participants-asean-youth-environmental-action-2024/
LOCATION:Universitas Budi Luhur\, Jakarta\, Indonesia
CATEGORIES:Courses
END:VEVENT
END:VCALENDAR