BEGIN:VCALENDAR
VERSION:2.0
PRODID:-//SEA Junction - ECPv4.9.4//NONSGML v1.0//EN
CALSCALE:GREGORIAN
METHOD:PUBLISH
X-WR-CALNAME:SEA Junction
X-ORIGINAL-URL:https://seajunction.org
X-WR-CALDESC:Events for SEA Junction
BEGIN:VTIMEZONE
TZID:"Asia/Krasnoyarsk"
BEGIN:STANDARD
TZOFFSETFROM:+0700
TZOFFSETTO:+0700
TZNAME:+07
DTSTART:20170101T000000
END:STANDARD
END:VTIMEZONE
BEGIN:VEVENT
DTSTART;VALUE=DATE:20170809
DTEND;VALUE=DATE:20170811
DTSTAMP:20260425T124618
CREATED:20170530T155139Z
LAST-MODIFIED:20170530T155236Z
UID:6368-1502236800-1502409599@seajunction.org
SUMMARY:Call for papers: Indonesia Development Forum (IDF)
DESCRIPTION:The Indonesia Development Forum 2017 (IDF) is a platform for Indonesian leaders in government\, private sector\, academia\, and other members of society to collaborate to shape Indonesia’s development agendas. This platform is initiated by Bappenas. \nOne of the key elements of IDF is an annual conference to publish the latest thinking and facilitate public-private dialogue on a priority development theme. The conference stands on three pillars: INSPIRE\, IMAGINE\, and INNOVATE. It will provide opportunities to build on past successes in strengthening evidence-based policy making\, to imagine the future of Indonesia\, and to promote innovations in development for a stronger\, more sustainable\, more inclusive Indonesia. Source: http://www.indonesiadevelopmentforum.com \n \nShare on FacebookTweetFollow usSave
URL:https://seajunction.org/event/call-papers-indonesia-development-forum-idf/
LOCATION:Jakarta
CATEGORIES:Conferences
END:VEVENT
END:VCALENDAR