BEGIN:VCALENDAR
VERSION:2.0
PRODID:-//SEA Junction - ECPv4.9.4//NONSGML v1.0//EN
CALSCALE:GREGORIAN
METHOD:PUBLISH
X-WR-CALNAME:SEA Junction
X-ORIGINAL-URL:https://seajunction.org
X-WR-CALDESC:Events for SEA Junction
BEGIN:VTIMEZONE
TZID:"Asia/Krasnoyarsk"
BEGIN:STANDARD
TZOFFSETFROM:+0700
TZOFFSETTO:+0700
TZNAME:+07
DTSTART:20240101T000000
END:STANDARD
END:VTIMEZONE
BEGIN:VEVENT
DTSTART;TZID="Asia/Krasnoyarsk":20240620T090000
DTEND;TZID="Asia/Krasnoyarsk":20240620T180000
DTSTAMP:20260425T120758
CREATED:20240601T111207Z
LAST-MODIFIED:20240601T111814Z
UID:25082-1718874000-1718906400@seajunction.org
SUMMARY:Compassion Without Borders: A World Refugee Day Event
DESCRIPTION:Event background \nAmidst the ongoing crisis in Myanmar\, triggered by the military coup in 2021\, millions have been forced to flee their homes\, seeking safety within the country and across its borders. In commemoration of World Refugee Day\, Asia Justice and Rights (AJAR) in partnership with the Asia Research Center for Migration of Chulalongkorn University (ARCM)\, the Rohingya Association in Southeast Asia\, Spirit in Education Movement (SEM) and SEA Junction aim to raise awareness and understanding of this ongoing humanitarian crisis. \nOn Thursday\, 20 June\, at 9 a.m. at Chulalongkorn University in Bangkok a full day event will be held consisting of panel discussions\, exhibitions\, and film screenings. Through these activities\, participants will share insights into the complex issues surrounding forced migration in Myanmar and the region. \nThe contribution of SEA Junction includes a photo exhibition of Tamwe\, a Burmese photojournalist and documentary photographer\, who recently won the World Press Photo for his photos of armed struggle in Myanmar. The exhibition photos take a more symbolic approach presenting portraits of people with tattoos referring to people’s resistance to the coup in Myanmar. These moving photos were first exposed at BACC as part of the exhibition “Trails of Absence and Symbols of Presence: Loss and Protest in the Myanmar Spring Revolution” featuring also artworks by artist Sai on 2-21 April 2024. \nMore details will be provided soon. For more information\, please email: info@seajunction.org or phone/wa: +66970024140 \n \nOrganizers: \nAsia Justice and Rights (AJAR) \nAJAR is a non-profit organization\, based in Jakarta\, Indonesia\, whose aim is to contribute to the strengthening of human rights and the alleviation of entrenched impunity in the Asia-Pacific region. Its work focuses on countries involved in transition from a context of mass human rights violations to democracy\, where it strives to build cultures based on accountability\, justice and a willingness to learn from the root causes of mass human rights violations to help prevent the recurrence of state-sanctioned human rights violations. For more information\, see www.asia-ajar.org. \nAsia Research Center for Migration of Chulalongkorn University (ARCM) \nARCM\, based in the Institute of Asian Studies in Chulalongkorn University\, is an internationally recognised center of excellence in social science research. Initially founded in 1987 as the Indochinese Refugee Information Center it was later reconstituted as the Asian Research Center for Migration in 1995. Since then\, we have significantly expanded our thematic areas and now include projects on all forms of international migration in Southeast Asia\, with a particular emphasis on Thailand as a sending\, receiving and transit country. See further http://hub.ias.chula.ac.th/en/tag/asian-research-center-for-migration-en/ \nThe Rohingya Association in Southeast Asia \nA newly established association to advocate the rights of Rohingya in Southeast Asia \nSpirit in Education Movement (SEM) \nSpirit in Education Movement (SEM) was founded in 1995 with the aim to offer alternatives to mainstream education that are rooted in personal and societal transformation. SEM provides education in Thailand and the wider Southeast Asia region that is based on ecology\, right livelihood\, engaged spirituality and local wisdom. See further https://semasia.org/about/about-us/. \nSEA Junction \nSEA Junction\, established under the Thai non-profit organization Foundation for Southeast Asia Studies (ForSEA)\, aims to foster understanding and appreciation of Southeast Asia in all its socio-cultural dimensions- from arts and lifestyles to economy and development. Conveniently located at Room 408 of the Bangkok Arts and Culture Center or BACC (across MBK\, BTS National Stadium)\, SEA Junction facilitates public access to knowledge resources and exchanges among students\, practitioners and Southeast Asia lovers. For more information see www.seajunction.org\, join the Facebook group: http://www.facebook.com/groups/1693058870976440/ and follow us on twitter and Instagram @seajunction. \nShare on FacebookTweetFollow usSave
URL:https://seajunction.org/event/compassion-without-borders-a-world-refugee-day-event/
LOCATION:4th floor\, Prajadhipok-Rambhai Barni Building\, Chulalongkorn University
CATEGORIES:Event
END:VEVENT
END:VCALENDAR