BEGIN:VCALENDAR
VERSION:2.0
PRODID:-//SEA Junction - ECPv4.9.4//NONSGML v1.0//EN
CALSCALE:GREGORIAN
METHOD:PUBLISH
X-WR-CALNAME:SEA Junction
X-ORIGINAL-URL:https://seajunction.org
X-WR-CALDESC:Events for SEA Junction
BEGIN:VTIMEZONE
TZID:"Asia/Krasnoyarsk"
BEGIN:STANDARD
TZOFFSETFROM:+0700
TZOFFSETTO:+0700
TZNAME:+07
DTSTART:20170101T000000
END:STANDARD
END:VTIMEZONE
BEGIN:VEVENT
DTSTART;VALUE=DATE:20170819
DTEND;VALUE=DATE:20170821
DTSTAMP:20260426T013738
CREATED:20170728T160115Z
LAST-MODIFIED:20170728T160115Z
UID:6792-1503100800-1503273599@seajunction.org
SUMMARY:Consultation on Transformation of Governance
DESCRIPTION:In the post-colonial era we live in Nation States. Some states are ruled by an elected government and enjoy comparative stability\, economic growth\, improved infrastructure\, educational opportunities\, employment and health care. \nSome states are unstable due to territorial conflict\, active war between the government security forces and armed insurgents resulting in deaths and strained relationships between people who support the government and those who oppose. The negative impact of such instability on the economy creates unemployment and insecurity. \nWhat is common in both categories of states is corruption and concentration of wealth and power in a small minority of elites and power holders. Those who are in power lack accountability and transparency\, though the degree may vary from one country to another. This alliance also exploits the country’s natural resource and very often transfers wealth to a safe haven in a foreign country. They take turns to rule through the so-called flawed electoral system. \nOur educational institutions\, academic community and civil society are too weak to challenge and they have little or no impact on the governance. Some of them become subservient to corrupt political practices. \nFailed state\, ineffective governance and war create challenges such as millions of refugees and migrants\, that require massive humanitarian response. \nTherefore there is a need for serious soul-searching and active engagement in evolving strategies including creating a new generation to reshape national and global governance towards a better future for everyone. \nDay I \n\nThe present state of global and national governance\nGovernance and development effectiveness\n\nCommunity Visit (optional)\n\n\n\nDay II \n\nRole of legislative\, executive and judiciary in promoting transparent and accountable governance\nChallenges of civil societies towards building responsive governance\nFollow up ideas and conclusion\n\nVisit local market (optional)\n\n\n\nNOTE: Kindly send us your proposed topic and abstract of your paper on this email address: iipds@arf-int.org \n \nSource: https://www.facebook.com/PeaceDemocraticCultureSpace/ \nShare on FacebookTweetFollow usSave
URL:https://seajunction.org/event/consultation-transformation-governance/
LOCATION:International Institute of Peace and Development Studies (IIPDS)\, Bangkok\, Nong Chok\, Thailand
CATEGORIES:Conferences
END:VEVENT
END:VCALENDAR