BEGIN:VCALENDAR
VERSION:2.0
PRODID:-//SEA Junction - ECPv4.9.4//NONSGML v1.0//EN
CALSCALE:GREGORIAN
METHOD:PUBLISH
X-WR-CALNAME:SEA Junction
X-ORIGINAL-URL:https://seajunction.org
X-WR-CALDESC:Events for SEA Junction
BEGIN:VTIMEZONE
TZID:"Asia/Krasnoyarsk"
BEGIN:STANDARD
TZOFFSETFROM:+0700
TZOFFSETTO:+0700
TZNAME:+07
DTSTART:20170101T000000
END:STANDARD
END:VTIMEZONE
BEGIN:VEVENT
DTSTART;TZID="Asia/Krasnoyarsk":20171109T100000
DTEND;TZID="Asia/Krasnoyarsk":20171110T130000
DTSTAMP:20260421T222702
CREATED:20171102T004618Z
LAST-MODIFIED:20171102T005132Z
UID:7992-1510221600-1510318800@seajunction.org
SUMMARY:GAATW-IS Consultation (Closed Event)
DESCRIPTION:\n\nOn 9-10 November SEA Junction and our Director as one of the Board Members will host the International Secretariat of the Global Alliance of Traffic in Women (GAATW-IS)  to discuss the findings of the organizational assessment  recently conducted with the aim of identifying and addressing areas of strengths\, weaknesses\, gaps\, challenges\, and opportunities in its programming and operational structure\, to better enable it to move forward with a clearer vision and strategic direction\, and strengthened operations. \n \nAt the meeting\, GAATW-IS and selected board members will review the presentation of the consultant and their findings based on the online survey among GAATW members and in-depth interviews with selected representatives of member organizations and the International Board. The survey and interviews aimed at collecting feedback on the Alliance strengths and weaknesses and proposed ways forward. Based on this feedback\, GAATW-IS will elaborate an organizational development framework and priorities for future actions that will lead to a stronger\, more efficient Alliance. The meeting will start with a presentation of the findings before going into more working groups/planning mode to develop the organizational development framework/recommendations. \n\n\nPlease note that this is a closed event by invitation only.\n \n\n \nOrganizers: \nSEA Junction\, OUR Venue to Connect on Southeast Asia (see https://seajunction.org) SEA Junction aims to foster understanding and appreciation of Southeast Asia in all its socio-cultural dimensions –from arts and lifestyles to economy and development. Conveniently located at Room 408 of the Bangkok Arts and Culture Centre or BACC (across MBK\, BTS National Stadium) SEA junction facilitates public access to knowledge resources and exchanges among students\, practitioners and Southeast Asia lovers. For more information see seajunction.org and join the Facebook group https://www.facebook.com/groups/1693055870976440/ \n \nThe Global Alliance Against Traffic in Women (GAATW) is an Alliance of more than 80 non-governmental organisations from Africa\, Asia\, Europe\, LAC and North America with the  International Secretariat based in Bangkok\, Thailand. .GAATW sees the phenomenon of human trafficking intrinsically embedded in the context of migration for the purpose of labour. For more information see Home – The Global Alliance Against Traffic in Women (GAATW)\nShare on FacebookTweetFollow usSave
URL:https://seajunction.org/event/gaatw-consultation-closed-event/
LOCATION:SEA Junction\, Room 408\, BACC\, 939 Rama 1 Rd\, Pathum Wan\, Khet Pathum Wan\, Krung Thep Maha Nakhon 10330 Bangkok\, Thailand\, Bangkok\, Thailand
CATEGORIES:Event
END:VEVENT
END:VCALENDAR