BEGIN:VCALENDAR
VERSION:2.0
PRODID:-//SEA Junction - ECPv4.9.4//NONSGML v1.0//EN
CALSCALE:GREGORIAN
METHOD:PUBLISH
X-WR-CALNAME:SEA Junction
X-ORIGINAL-URL:https://seajunction.org
X-WR-CALDESC:Events for SEA Junction
BEGIN:VTIMEZONE
TZID:"Asia/Krasnoyarsk"
BEGIN:STANDARD
TZOFFSETFROM:+0700
TZOFFSETTO:+0700
TZNAME:+07
DTSTART:20210101T000000
END:STANDARD
END:VTIMEZONE
BEGIN:VEVENT
DTSTART;VALUE=DATE:20210215
DTEND;VALUE=DATE:20210216
DTSTAMP:20260425T181206
CREATED:20210203T025909Z
LAST-MODIFIED:20210203T025909Z
UID:17818-1613347200-1613433599@seajunction.org
SUMMARY:German Language Class for International Students
DESCRIPTION:German language classes are now open for students from all over the world! with online package covers 70 hours online live classes – three optional webinars – language certificate \nPlease note:\nThe additionally offered webinars on:\n– Studying in Germany – All you need to know\n– Dos and Don’ts in Germany\n– Understanding Germany\nare optional and not required to obtain the certificate. \nGerman courses will be delivered online every Saturday\, 3.00 pm – 9.00 pm/ Bangkok Time Zone: GMT+7 (9.00 am – 3.00 pm/ GMT+1) \nThe course fee is 3\,500 Thai Baht for 70 hours\, taught by German and Thai lecturers from the Faculty of Liberal Arts\, Thammasat University\, and many elite universities. \nClasses will start from mid- February (date will be announced) \nCourse Study Time \n– Saturday Class\, 3.00 pm – 9.00 pm/ GMT+7 (9.00 am – 3.00 pm/ GMT+1) \n  \nSource: https://www.cpg-online.de/cpg-event/german-online-class-for-international-students/ \nShare on FacebookTweetFollow usSave
URL:https://seajunction.org/event/german-language-class-for-international-students/
LOCATION:Online
CATEGORIES:Courses
END:VEVENT
END:VCALENDAR