BEGIN:VCALENDAR
VERSION:2.0
PRODID:-//SEA Junction - ECPv4.9.4//NONSGML v1.0//EN
CALSCALE:GREGORIAN
METHOD:PUBLISH
X-WR-CALNAME:SEA Junction
X-ORIGINAL-URL:https://seajunction.org
X-WR-CALDESC:Events for SEA Junction
BEGIN:VTIMEZONE
TZID:"Asia/Krasnoyarsk"
BEGIN:STANDARD
TZOFFSETFROM:+0700
TZOFFSETTO:+0700
TZNAME:+07
DTSTART:20170101T000000
END:STANDARD
END:VTIMEZONE
BEGIN:VEVENT
DTSTART;VALUE=DATE:20171118
DTEND;VALUE=DATE:20171121
DTSTAMP:20260422T003012
CREATED:20170315T013523Z
LAST-MODIFIED:20170315T013523Z
UID:5628-1510963200-1511222399@seajunction.org
SUMMARY:International Conference on Education\, Culture and Humanities (ICEC – SAINT PAUL College 2017)
DESCRIPTION: \nShare on FacebookTweetFollow usSave
URL:https://seajunction.org/event/international-conference-education-culture-humanities-icec-saint-paul-college-2017/
LOCATION:Saint Paul Teacher’s College\, Ruteng\, Flores\, Indonesia\, Flores\, Nusa Tenggara Timur\, Indonesia
CATEGORIES:Conferences
END:VEVENT
END:VCALENDAR