BEGIN:VCALENDAR
VERSION:2.0
PRODID:-//SEA Junction - ECPv4.9.4//NONSGML v1.0//EN
CALSCALE:GREGORIAN
METHOD:PUBLISH
X-WR-CALNAME:SEA Junction
X-ORIGINAL-URL:https://seajunction.org
X-WR-CALDESC:Events for SEA Junction
BEGIN:VTIMEZONE
TZID:"Asia/Krasnoyarsk"
BEGIN:STANDARD
TZOFFSETFROM:+0700
TZOFFSETTO:+0700
TZNAME:+07
DTSTART:20200101T000000
END:STANDARD
END:VTIMEZONE
BEGIN:VEVENT
DTSTART;VALUE=DATE:20200311
DTEND;VALUE=DATE:20200313
DTSTAMP:20260425T104903
CREATED:20200309T034026Z
LAST-MODIFIED:20200309T034313Z
UID:15984-1583884800-1584057599@seajunction.org
SUMMARY:International Conference on Multidisciplinary Social Studies\, Anthropology\, Archaeology\, History and Philosophy
DESCRIPTION:Overview \nWelcome to the official website of International Conference on Multidisciplinary Social Studies\, Anthropology\, Archaeology\, History and Philosophy from ITAR. International Conference on Multidisciplinary Social Studies\, Anthropology\, Archaeology\, History and Philosophy will be held Pattaya\, Thailand during 27th March 2020. (ICMSSAAHP-20) conference series held in regular interval to provide an interactive forum for presentation and discussion on Multidisciplinary Social Studies\, Anthropology\, Archaeology\, History and Philosophy. International Conference on Multidisciplinary Social Studies\, Anthropology\, Archaeology\, History and Philosophy welcomes participants from all over the world who are interested in developing professional ties to and/or exploring career opportunities in the region. The conference should serve as an ideal forum to establish relationships from within Pattaya\, Thailand and other regions of the world. We hope you will join us in Pattaya\, Thailand for (ICMSSAAHP-20). \nObjective \n(ICMSSAAHP-20) is to bring together innovative academics and industrial experts in the field of Multidisciplinary Social Studies\, Anthropology\, Archaeology\, History and Philosophy to a common forum. The primary goal of the conference is to promote research and developmental activities in Multidisciplinary Social Studies\, Anthropology\, Archaeology\, History and Philosophy. Another goal is to promote scientific information interchange between researchers\, developers\, engineers\, students\, and practitioners working in (conference country and abroad). The conference will be held in regular interval to make it an ideal platform for people to share views and experiences in Multidisciplinary Social Studies\, Anthropology\, Archaeology\, History and Philosophy and related areas. \n  \nSource: https://itar.in/conf/index.php?id=1137215 \nShare on FacebookTweetFollow usSave
URL:https://seajunction.org/event/international-conference-on-multidisciplinary-social-studies-anthropology-archaeology-history-and-philosophy/
LOCATION:Pattaya\, Thailand
CATEGORIES:Conferences
END:VEVENT
END:VCALENDAR