BEGIN:VCALENDAR
VERSION:2.0
PRODID:-//SEA Junction - ECPv4.9.4//NONSGML v1.0//EN
CALSCALE:GREGORIAN
METHOD:PUBLISH
X-WR-CALNAME:SEA Junction
X-ORIGINAL-URL:https://seajunction.org
X-WR-CALDESC:Events for SEA Junction
BEGIN:VTIMEZONE
TZID:"Asia/Krasnoyarsk"
BEGIN:STANDARD
TZOFFSETFROM:+0700
TZOFFSETTO:+0700
TZNAME:+07
DTSTART:20180101T000000
END:STANDARD
END:VTIMEZONE
BEGIN:VEVENT
DTSTART;VALUE=DATE:20180601
DTEND;VALUE=DATE:20180616
DTSTAMP:20260421T140749
CREATED:20180419T074605Z
LAST-MODIFIED:20180419T074605Z
UID:8708-1527811200-1529107199@seajunction.org
SUMMARY:International Grant Program 2018
DESCRIPTION:\n\nDeadline: From April 2nd to June 15th\, 2018\, 23:59 Japan Standard Time\nDuration:  One year (Nov 2018 – Oct 2019) or Two years (Nov 2018 – Oct 2020)\n\n \nProgram Title: Cultivating Empathy Through Learning from Our Neighbors:\nPractitioners’ Exchange on Common Issues in Asia\n\n \n\nThe grant program focuses on deepening mutual understanding and knowledge-sharing among people on the ground in East and Southeast Asia who are finding solutions to shared issues. Through promoting direct interaction among key players\, the grant program aims to survey and analyze situations in target countries\, obtain new perspectives\, and expand the potential of future generations.\n \nWith multinational teams comprised of participants from diverse backgrounds\, projects can avoid conventional linear relationships\, such as “supporter and supported” or “instructor and trainee\,” and instead form cooperative and creative alliances that consider\, act on\, and construct solutions to shared issues. The grant program anticipates that these partnerships\, which extend beyond such factors as nationality\, age\, and organizational affiliation\, will produce significant social change through fostering a process of mutual learning.\n\n \nsource: https://www.toyotafound.or.jp/english/international/2018/\nShare on FacebookTweetFollow usSave
URL:https://seajunction.org/event/international-grant-program-2018/
CATEGORIES:Opportunities
END:VEVENT
END:VCALENDAR