BEGIN:VCALENDAR
VERSION:2.0
PRODID:-//SEA Junction - ECPv4.9.4//NONSGML v1.0//EN
CALSCALE:GREGORIAN
METHOD:PUBLISH
X-WR-CALNAME:SEA Junction
X-ORIGINAL-URL:https://seajunction.org
X-WR-CALDESC:Events for SEA Junction
BEGIN:VTIMEZONE
TZID:"Asia/Krasnoyarsk"
BEGIN:STANDARD
TZOFFSETFROM:+0700
TZOFFSETTO:+0700
TZNAME:+07
DTSTART:20180101T000000
END:STANDARD
END:VTIMEZONE
BEGIN:VEVENT
DTSTART;VALUE=DATE:20181101
DTEND;VALUE=DATE:20190203
DTSTAMP:20260425T025956
CREATED:20180924T070851Z
LAST-MODIFIED:20180924T070851Z
UID:9809-1541030400-1549151999@seajunction.org
SUMMARY:International Leaders Model United National (ILMUN) 2019
DESCRIPTION:International Leaders Model United National (ILMUN) 2019 is a four-days Model United Nations conference that will bring together 300 International participants from across the world to advance understanding of the United Nations and global issues organized by Youth Center to Act for Nations with the theme of “FORGING UNITY: Integrating Diverse Intellects in International Sphere” \nOur goal is to provide a better understanding of the inner workings of the United Nations as delegates build skills in diplomacy and compromise. We will afford an atmosphere where delegates can improve their communication and diplomatic skill\, critical thinking\, and networking in the true place of United Nations\, United Nations Conference Center. \nDate: January 30 – February 2 2019 \nPlace: Bangkok\, Thailand \nVenue: United Nations Conference Center\, Bangkok Thailand. \nDo not miss this amazing opportunity to learn about diplomacy and United Nations assemble with different Delegates around the globe and together respond to global concerns in United Nations Conference Center\, Bangkok Thailand. Fly to Bangkok and join International Leader Model United Nations! \n \nFor more information : \nWebsite : https://ilmun.org \nIG : bit.ly/instagramilmun \nEmail: info@ilmun.org \nWhatsApp : bit.ly/whatsappilmun \nLine : bit.ly/lineyoucan \nShare on FacebookTweetFollow usSave
URL:https://seajunction.org/event/international-leaders-model-united-national-ilmun-2019/
LOCATION:Bangkok\, Thailand\, Bangkok\, Bangkok\, Thailand
CATEGORIES:Courses
END:VEVENT
END:VCALENDAR