BEGIN:VCALENDAR
VERSION:2.0
PRODID:-//SEA Junction - ECPv4.9.4//NONSGML v1.0//EN
CALSCALE:GREGORIAN
METHOD:PUBLISH
X-WR-CALNAME:SEA Junction
X-ORIGINAL-URL:https://seajunction.org
X-WR-CALDESC:Events for SEA Junction
BEGIN:VTIMEZONE
TZID:"Asia/Krasnoyarsk"
BEGIN:STANDARD
TZOFFSETFROM:+0700
TZOFFSETTO:+0700
TZNAME:+07
DTSTART:20200101T000000
END:STANDARD
END:VTIMEZONE
BEGIN:VEVENT
DTSTART;VALUE=DATE:20200704
DTEND;VALUE=DATE:20200707
DTSTAMP:20260426T014356
CREATED:20200426T062700Z
LAST-MODIFIED:20200426T062700Z
UID:16061-1593820800-1594079999@seajunction.org
SUMMARY:International Nature Image Festival (FIIN) Biodiversity Short Film Contest 2020 (prize of €4\,000)
DESCRIPTION:Applications are open for the International Nature Image Festival (FIIN) Biodiversity Short Film Contest 2020. The main objective of the Short Film contest is to promote the biological natural heritage\, namely the natural region\, the ecosystems\, the habitats and the species of wild fauna and flora\, though the selection and classification of cinematographic works related to this subject. \nIt also aims to promote cinematography of nature and promote its growth and devlopment\, as well as launching the debate and reflection of society on the need to knowing\, promoting and conserving the biodiversity and the environment. \nPrizes \nA prize of €4\,000 (four thousand euros) will be awarded to the Short Film best classified by the Jury of the Contest. \nEligibility \n\nParticipation in the Short Film Contest is open to all.\nThe following works will be accepted:\nCinematography work like: animations\, documentaries\, fiction\, experimental films and music videos in digital format;\nCinematographic works of national and international origin;\nWith duration of between 5 and 28 minutes;\nWorks that obey the subject and the objectives of the contest.\n\nApplication \nTo participate in Short Film Contest\, an electronic registration must be done\, as well as the inclusion of all elements and files requested. \nClick here to submit your work \n  \nSource: https://opportunitydesk.org/2020/04/22/international-nature-image-festival-biodiversity-short-film-contest-2020/ \nShare on FacebookTweetFollow usSave
URL:https://seajunction.org/event/international-nature-image-festival-fiin-biodiversity-short-film-contest-2020-prize-of-e4000/
LOCATION:International
CATEGORIES:Opportunities
END:VEVENT
END:VCALENDAR