BEGIN:VCALENDAR
VERSION:2.0
PRODID:-//SEA Junction - ECPv4.9.4//NONSGML v1.0//EN
CALSCALE:GREGORIAN
METHOD:PUBLISH
X-WR-CALNAME:SEA Junction
X-ORIGINAL-URL:https://seajunction.org
X-WR-CALDESC:Events for SEA Junction
BEGIN:VTIMEZONE
TZID:"Asia/Krasnoyarsk"
BEGIN:STANDARD
TZOFFSETFROM:+0700
TZOFFSETTO:+0700
TZNAME:+07
DTSTART:20200101T000000
END:STANDARD
END:VTIMEZONE
BEGIN:VEVENT
DTSTART;VALUE=DATE:20200809
DTEND;VALUE=DATE:20200811
DTSTAMP:20260425T202256
CREATED:20200519T022835Z
LAST-MODIFIED:20200519T022835Z
UID:16354-1596931200-1597103999@seajunction.org
SUMMARY:JFBKK Small grant support for online projects
DESCRIPTION:In order to maintain and sustain cultural and social connectivity in the current pandemic crisis\, The Japan Foundation\, Bangkok is now open for online based projects.\nThis program provides grants to cover partial expenses to implement the following types of projects. \n\nA) Cultural or academic activities concerning Japan\n\n(Examples: Virtual art exhibition\, online workshop\, webinar by Japanese artists or researchers)\nMaximum cost coverage by JFBKK is 50\,000 THB \n\nB) Promotion of cultural collaboration\n\n(Examples: Virtual collaborative arts exhibition\, theater performance and film streaming\, online publication\, online conference by Thai and Japanese artists or specialists)\nMaximum cost coverage by JFBKK is 100\,000 THB \n\nC) People-to-people exchange\n\n(Example: Webinar by Thai and Japanese researchers)\nMaximum cost coverage by JFBKK is 100\,000 THB \nFor the applicant’s eligibility\, please check details in the small grant guidelines (2.3 Eligibility and 2.4 Non-Eligibility) \n\nD) Promotion of Japanese-Language education\n\nDetails to be announced. \nWe accept the applications with the following deadlines: \nFor Category A: \n1st deadline: February 10 (for projects starting from April 15 onwards)\n2nd deadline: May 30 (for projects starting from July 1 onwards)\n3rd deadline: August 10 (for projects starting from October 1 onwards)\n4th deadline: November 10 (for projects starting from January 1 onwards) \nFor Category B and C: \n1st deadline: February 10 (for projects starting from April 15 onwards)\n2nd deadline: May 30 (for projects starting from July 1 onwards)\n3rd deadline: August 10 (for projects starting from October 1 onwards and completing within November 30) \nDownload Proposal form: \n1 JFBKK Small Grant Guidelines_Version 202005 (.PDF)\n2 Application Form_Version 201709 (.DOC)\n2 Application Form_Version 201709 (.PDF)\n3 Sample of Budget Sheet Version 201709 (.PDF) \nPlease submit your proposal by email to smallgrant@jfbkk.or.th and our staff will contact you for further details after submission. \nFor category D: \nDetails to be announced. \nSource: https://www.jfbkk.or.th/grants/jfbkk_programs/?fbclid=IwAR2P8AQk_eNMbGmj9kSS3hh6vG6HHjP7J7xPj4qVaGSHLTca2fzNLVs1fXc&lang=en \nShare on FacebookTweetFollow usSave
URL:https://seajunction.org/event/jfbkk-small-grant-support-for-online-projects/
LOCATION:asia
CATEGORIES:Opportunities
END:VEVENT
END:VCALENDAR