BEGIN:VCALENDAR
VERSION:2.0
PRODID:-//SEA Junction - ECPv4.9.4//NONSGML v1.0//EN
CALSCALE:GREGORIAN
METHOD:PUBLISH
X-WR-CALNAME:SEA Junction
X-ORIGINAL-URL:https://seajunction.org
X-WR-CALDESC:Events for SEA Junction
BEGIN:VTIMEZONE
TZID:"Asia/Krasnoyarsk"
BEGIN:STANDARD
TZOFFSETFROM:+0700
TZOFFSETTO:+0700
TZNAME:+07
DTSTART:20190101T000000
END:STANDARD
END:VTIMEZONE
BEGIN:VEVENT
DTSTART;VALUE=DATE:20190224
DTEND;VALUE=DATE:20190301
DTSTAMP:20260425T160219
CREATED:20181224T023159Z
LAST-MODIFIED:20181224T023159Z
UID:11765-1550966400-1551398399@seajunction.org
SUMMARY:Master of Arts in Human Rights and Democratisation [Asia Pacific Program]
DESCRIPTION:A program co-funded by the European Commission\, the Master of Arts in Human Rights and Democratisation-Asia Pacific Program or APMA\, is the region’s premier degree in human rights and democratisation. The degree offers students the opportunity to study both at Mahidol University and one of four selected universities in the Asia Pacific\, each with a particular expertise in human rights and democratisation. The four partner universities are: \n\nAteneo de Manila Law School (the Philippines)\nUniversitas Gadjah Mada (Indonesia)\nKathmandu School of Law (Nepal)\nThe University of Colombo (Sri Lanka)\n\nObjectives \nThe APMA Program is an interdisciplinary intensive one-year graduate degree that reflects the inseparable links between human rights\, democracy\, peace and development in the region. Designed for mid-career professionals and highly motivated graduates with bachelor degree\, the degree offers students an opportunity to engage first-hand with regional and international human rights issues\, and to interact with internationally renowned human rights academics\, practitioners and experts. Complemented by funding from the European Commission\, this degree provides students with exposure to leading international human rights academics and practitioners. \nGraduates of the program will: \n\nHave an excellent knowledge of theory and practice of the promotion and protection of human rights and democratisation;\nBe able to undertake independent scholarly research on current issues in human rights and democratisation in the Asia Pacific; and\nHave capacity to put their academic understanding and practical experience to use in real situations.\n\nFurther information\, please see: https://drive.google.com/drive/folders/0B-IeM6Bc1gleTmlrNExwVkR2YUU \nShare on FacebookTweetFollow usSave
URL:https://seajunction.org/event/master-of-arts-in-human-rights-and-democratisation-asia-pacific-program/
LOCATION:Asia Pacific
CATEGORIES:Courses
END:VEVENT
END:VCALENDAR