BEGIN:VCALENDAR
VERSION:2.0
PRODID:-//SEA Junction - ECPv4.9.4//NONSGML v1.0//EN
CALSCALE:GREGORIAN
METHOD:PUBLISH
X-WR-CALNAME:SEA Junction
X-ORIGINAL-URL:https://seajunction.org
X-WR-CALDESC:Events for SEA Junction
BEGIN:VTIMEZONE
TZID:"Asia/Krasnoyarsk"
BEGIN:STANDARD
TZOFFSETFROM:+0700
TZOFFSETTO:+0700
TZNAME:+07
DTSTART:20200101T000000
END:STANDARD
END:VTIMEZONE
BEGIN:VEVENT
DTSTART;VALUE=DATE:20200704
DTEND;VALUE=DATE:20200706
DTSTAMP:20260426T033600
CREATED:20200530T054701Z
LAST-MODIFIED:20200530T054701Z
UID:16429-1593820800-1593993599@seajunction.org
SUMMARY:Master of Arts in Human Rights / MAHR (International Program) Mahidol University\, Thailand
DESCRIPTION:Master of Arts Human Rights (International Program) \nBackground \nLaunched in 1999\, Mahidol’s Master of Arts in Human Rights is the first program in empirical human rights studies in Southeast Asia. The program fosters an interdisciplinary social scientific approach to human rights problems. We take pride in our twenty-year record of graduating highly qualified human rights professionals\, who are now found in non-governmental organizations\, international organizations\, and government agencies throughout and beyond the region. \nThe Master of Arts in Human Rights offers a well-rounded and varied set of courses that gives students a solid grounding in human rights studies as an interdisciplinary field. Its distinction is research-intensive character. \n  \nSource: https://op.mahidol.ac.th/ihrp/en/ma-human-rights/?fbclid=IwAR1Q-zUiiPogWGEy6zR5jmiaDQSMVhmTmYXU-Fx7yAuqnJpIcU53w5wanvA \nShare on FacebookTweetFollow usSave
URL:https://seajunction.org/event/master-of-arts-in-human-rights-mahr-international-program-mahidol-university-thailand/
LOCATION:Thailand
CATEGORIES:Courses
END:VEVENT
END:VCALENDAR