BEGIN:VCALENDAR
VERSION:2.0
PRODID:-//SEA Junction - ECPv4.9.4//NONSGML v1.0//EN
CALSCALE:GREGORIAN
METHOD:PUBLISH
X-WR-CALNAME:SEA Junction
X-ORIGINAL-URL:https://seajunction.org
X-WR-CALDESC:Events for SEA Junction
BEGIN:VTIMEZONE
TZID:"Asia/Krasnoyarsk"
BEGIN:STANDARD
TZOFFSETFROM:+0700
TZOFFSETTO:+0700
TZNAME:+07
DTSTART:20200101T000000
END:STANDARD
END:VTIMEZONE
BEGIN:VEVENT
DTSTART;VALUE=DATE:20200805
DTEND;VALUE=DATE:20200806
DTSTAMP:20260426T014053
CREATED:20200704T085646Z
LAST-MODIFIED:20200704T085646Z
UID:16677-1596585600-1596671999@seajunction.org
SUMMARY:“Our Planet\, Our Future” EU Drawing Competition for Youth in ASEAN
DESCRIPTION:The Mission of the European Union to ASEAN presents a drawing competition for youth across the ASEAN region. \nExpress your creative ideas through a colourful drawing based on the theme “Our Planet\, Our Future”\, with the objective of inspiring others to help safeguard the planet and combat climate change.  Show us what comes to your mind when you reflect on your concerns and solutions for climate change. Illustrate potential solutions\, rather than a catastrophic representation of the issue. \nRules and Guidelines: \n\nYour drawing must be in landscape format fitting on an A4 page (210 mm x 297 mm).\nThe submission of the drawing should be digital (scanned version is allowed) with a minimum resolution of 300 dpi.\nSubmission is free and you may submit more than one artwork (maximum 3).\nThe artwork must be original\, unpublished and unproduced. Any piece posted online\, anywhere other than a personal blog\, is considered published and will not be eligible.\n\nFor complete Rules and Guidelines\, access HERE \nEligibility: \nThe competition is open to young people between 16 to 24 years old and citizens of one of the 10 ASEAN Member States: Brunei Darussalam\, Cambodia\, Indonesia\, Lao PDR\, Malaysia\, Myanmar\, the Philippines\, Singapore\, Thailand\, Vietnam. \nHow to submit: \n\nSend your drawing(s) to euasean.drawing@gmail.com and mention “Submission for Drawing Competition” in the subject of your email.\nTogether with the drawing(s)\, participants must submit a copy of a valid ID\, a completed entry form and a signed ‘Release & Waiver’ form.\n\nTo download the Entry Form\, click HERE \nTo download the Release & Waiver Form\, click HERE \nGet started soon. Only the first 500 artworks will be accepted. \nSubmission Deadline: Wednesday\, 5 August 2020 \nSubmission is free! \nPrizes\n1st place: Laptop \n2nd and 3rd place: Tablet \n4th – 12th place: Smart Watch \n  \nSource: https://bit.ly/OurPlanetOurFuture \n  \nShare on FacebookTweetFollow usSave
URL:https://seajunction.org/event/our-planet-our-future-eu-drawing-competition-for-youth-in-asean/
CATEGORIES:Opportunities
END:VEVENT
END:VCALENDAR