BEGIN:VCALENDAR
VERSION:2.0
PRODID:-//SEA Junction - ECPv4.9.4//NONSGML v1.0//EN
CALSCALE:GREGORIAN
METHOD:PUBLISH
X-WR-CALNAME:SEA Junction
X-ORIGINAL-URL:https://seajunction.org
X-WR-CALDESC:Events for SEA Junction
BEGIN:VTIMEZONE
TZID:"Asia/Krasnoyarsk"
BEGIN:STANDARD
TZOFFSETFROM:+0700
TZOFFSETTO:+0700
TZNAME:+07
DTSTART:20230101T000000
END:STANDARD
END:VTIMEZONE
BEGIN:VEVENT
DTSTART;VALUE=DATE:20230205
DTEND;VALUE=DATE:20230206
DTSTAMP:20260422T060637
CREATED:20221217T080910Z
LAST-MODIFIED:20221217T081217Z
UID:21526-1675555200-1675641599@seajunction.org
SUMMARY:Paid Curating Course
DESCRIPTION:Students of the one-year New Curators programme will cover all aspects of the profession and get the chance to organize a major show at South London Gallery. \nWHY?  \nWe Know that the training to become a curator is expensive and entering the profession can be difficult. Little wonder our industry is often seen as elitist and characterized by a lack of diversity\, we want to help make the art world more accessible and equitable because we believe this will make it richer and more relevant. \nBy offering an intensive twelve-month curatorial training and London living wage to 12 people from lower socio-economic backgrounds globally we will help diversify the curatorial profession. \nWHAT? \nOur course is designed to equip participants with the knowledge\, practical skills\, networks\, and confidence needed to thrive in the curatorial profession. \nThe program is divided into five strands: \nAcademic seminars –In curatorial theory and practice and art history. \nSkill Training-covering essential topics as writing for different audiences\, public speaking\, budgeting and fundraising. \nNetwork development-Meetings with a wide range of curators\, artists and arts profession and regular studio\, gallery and museum visits in the UK and internationally. \nExhibition making –Extensive practical experience working collaboratively on exhibitions\, publications and public programmes. \nCoaching and mentorship– Participants will be mentored and have access to regular individual and group coaching session. \nIf you think you have what it takes to become a future curator and change-maker\, and need a leg-up please read on. \nYou can read and apply here \nShare on FacebookTweetFollow usSave
URL:https://seajunction.org/event/paid-curating-course/
CATEGORIES:Courses
END:VEVENT
END:VCALENDAR