BEGIN:VCALENDAR
VERSION:2.0
PRODID:-//SEA Junction - ECPv4.9.4//NONSGML v1.0//EN
CALSCALE:GREGORIAN
METHOD:PUBLISH
X-WR-CALNAME:SEA Junction
X-ORIGINAL-URL:https://seajunction.org
X-WR-CALDESC:Events for SEA Junction
BEGIN:VTIMEZONE
TZID:"Asia/Krasnoyarsk"
BEGIN:STANDARD
TZOFFSETFROM:+0700
TZOFFSETTO:+0700
TZNAME:+07
DTSTART:20170101T000000
END:STANDARD
END:VTIMEZONE
BEGIN:VEVENT
DTSTART;TZID="Asia/Krasnoyarsk":20170721T141500
DTEND;TZID="Asia/Krasnoyarsk":20170721T160000
DTSTAMP:20260422T201820
CREATED:20170719T154319Z
LAST-MODIFIED:20170719T154319Z
UID:6707-1500646500-1500652800@seajunction.org
SUMMARY:Philanthropic Giving and Development in Southeast Asia
DESCRIPTION: \nShare on FacebookTweetFollow usSave
URL:https://seajunction.org/event/philanthropic-giving-development-southeast-asia/
LOCATION:10th ICAS Chiang Mai\, Chiang Mai\, Thailand
CATEGORIES:Event
END:VEVENT
END:VCALENDAR