BEGIN:VCALENDAR
VERSION:2.0
PRODID:-//SEA Junction - ECPv4.9.4//NONSGML v1.0//EN
CALSCALE:GREGORIAN
METHOD:PUBLISH
X-WR-CALNAME:SEA Junction
X-ORIGINAL-URL:https://seajunction.org
X-WR-CALDESC:Events for SEA Junction
BEGIN:VTIMEZONE
TZID:"Asia/Krasnoyarsk"
BEGIN:STANDARD
TZOFFSETFROM:+0700
TZOFFSETTO:+0700
TZNAME:+07
DTSTART:20180101T000000
END:STANDARD
END:VTIMEZONE
BEGIN:VEVENT
DTSTART;TZID="Asia/Krasnoyarsk":20180724T180000
DTEND;TZID="Asia/Krasnoyarsk":20180724T200000
DTSTAMP:20260425T125152
CREATED:20180602T062150Z
LAST-MODIFIED:20180717T001502Z
UID:8940-1532455200-1532462400@seajunction.org
SUMMARY:Premiere of Short Documentary Living Beyond “30 Baht” and Panel Discussion
DESCRIPTION:Thailand has achieved Universal Health Coverage (UHC) since 2002 with the “30 Baht Scheme” financed from taxation. This is a monumental achievement in public health and a big step in advancing towards a more equitable society by reducing catastrophic expenses that disproportionately affect the poor. Based on an independent assessment[1] of the first 10 years of the 30 Baht scheme\, empirical evidence suggests a pro-poor outcome. Impoverishment as measured by the additional number of non-poor households falling below poverty line as a result of health payments has been reduced significantly. Evidence suggests that UHC does provide an important support system in mitigating life’s precariousness due to serious illness. \nYet\, empirical evidence can only scratch the surface of what can be measured. Good health does not come by solely from access to medicines and medical care\, but it is the result of a complex interplay of social\, environmental\, political\, cultural and demographic factors. \nThe short documentary to be shown at SEA Junction on 24 July on 6PM-8PM ต่อยอดชีวิตหลัง 30 บาท or Living Beyond “30 Baht” (in Thai with English subtitles) reveals the tip of this iceberg of inequities by showing the human face of a handful of ‘cases’. By disclosing the struggle and resilience of ordinary Thais who cope with illnesses\, ageing and disabilities with the support from the 30 Baht insurance and other schemes\, this short documentary aims to raise awareness of the importance of social and health protection\, and the need to go beyond numbers and clinical settings to a more values-based and empathy-driven vision of what it is needed to attain good health. The producer team composed by Jiruth Sriratanaban\, Natalie Phaholyothin and Wirada Saelim hopes public discussion of UHC will go beyond technocratic consideration and be informed by the experiences of those who suffer from health-related incidents. \nThis documentary is made possible by grant funding from the Equity Initiative (http://www.equityinitiative.org/) which is supported by The Atlantic Philanthropies and the China Medical Board. \nEvent Description \n5.45 PM – Arrival of guests and panelists \n6.00PM – 8PM Premier Living Beyond “30 Baht” \n\nPublic screening of ต่อยอดชีวิตหลัง 30 บาท or Living Beyond “30 Baht” (in Thai with English subtitles)\nPanel discussion on Life under 30 Baht and Universal Health Coverage followed by Q&A\n\nModerator: Rosalia Sciortino\, SEA Junction- Executive Director \nPanelists:  \n– Jiruth Sriratanaban\, Chulalongkorn University – Executive Producer \n– Natalie Phaholyothin\, The Rockefeller Foundation – Executive Producer \n– Wirada Saelim\, Filmmaker and Director \n– Nimit Tien-udom\, Aids Access Foundation – Commentator \n\nCocktail reception\n\n \nFor information/reservation for our events please email southeastasiajunction@gmail.com or phone/wa: +66970024140 \nNB: Events are free\, but donation most welcome! \nOrganizes: \nSEA Junction\, OUR Venue on Southeast Asia  \nSEA Junction aims to foster understanding and appreciation of Southeast Asia in all its socio-cultural dimensions –from arts and lifestyles to economy and development. Conveniently located at Room 408 of the Bangkok Arts and Culture Centre or BACC (across MBK\, BTS National Stadium) SEA junction facilitates public access to knowledge resources and exchanges among students\, practitioners and Southeast Asia lovers. For more information see www.seajunction.org and join the Facebook group https://www.facebook.com/groups/1693055870976440/ \n[1] Thailand’s Universal Coverage Scheme: Achievements and Challenges. An independent assessment of the first 10 years (2001-2010). – Nonthaburi\, Thailand: Health Insurance System Research Office\, 2012. \nShare on FacebookTweetFollow usSave
URL:https://seajunction.org/event/premiere-of-short-documentary-living-beyond-30-baht-and-panel-discussion/
LOCATION:SEA Junction\, Room 408\, BACC\, 939 Rama 1 Rd\, Pathum Wan\, Khet Pathum Wan\, Krung Thep Maha Nakhon 10330 Bangkok\, Thailand\, Bangkok\, Thailand
CATEGORIES:Event
END:VEVENT
END:VCALENDAR