BEGIN:VCALENDAR
VERSION:2.0
PRODID:-//SEA Junction - ECPv4.9.4//NONSGML v1.0//EN
CALSCALE:GREGORIAN
METHOD:PUBLISH
X-WR-CALNAME:SEA Junction
X-ORIGINAL-URL:https://seajunction.org
X-WR-CALDESC:Events for SEA Junction
BEGIN:VTIMEZONE
TZID:"Asia/Krasnoyarsk"
BEGIN:STANDARD
TZOFFSETFROM:+0700
TZOFFSETTO:+0700
TZNAME:+07
DTSTART:20170101T000000
END:STANDARD
END:VTIMEZONE
BEGIN:VEVENT
DTSTART;TZID="Asia/Krasnoyarsk":20170725T180000
DTEND;TZID="Asia/Krasnoyarsk":20170725T193000
DTSTAMP:20260423T000050
CREATED:20170720T113558Z
LAST-MODIFIED:20170723T011446Z
UID:6712-1501005600-1501011000@seajunction.org
SUMMARY:Public Lecture "ASEAN Development at Fifty" by Michael Vatikiotis
DESCRIPTION:Former journalist and Southeast Asia expert Michael Vatikiotis of the Centre for Humanitarian Dialogue will give a public talk at SEA Junction reflecting on development in ASEAN as it celebrates its 50th Anniversary. Southeast Asia evokes narratives of rapid growth\, as a thriving economic hub with an overall annual growth rate of more than 5%.  Yet\, a closer look reveals that the benefits and costs of development are not shared equitably among the countries and peoples of the region. Intraregional and in-country gaps are widening often according to identity and socio-economic lines\, with marginalised ethnic and migrant communities missing out on the emerging opportunities. Regional and state institutions are confronted with rapid and complex region’s dynamics resulting in a multitude of socio-cultural impacts requiring new societal systems and policy approaches. This evolving dynamism and its inherent tensions as well as possible development options are among the issues to be discussed by the speaker in what promises to be a fascinating and multi-layered portrait of Southeast Asia. \nMichael Vatikiotis is a graduate of the School of Oriental and African Studies in London and gained his doctorate from the University of Oxford. He is a member of the Asia Society’s International Council and has a decade of experience working as a private diplomat for the Geneva-based Centre for Humanitarian Dialogue. He is a former BBC journalist who has worked in Asia for over thirty years\, living in Indonesia\, Malaysia\, Thailand and Hong Kong. He now lives in Singapore and is the author of two previous books on Southeast Asia as well as two novels set in Indonesia. \nFor information/reservation for our events please email southeastasiajunction@gmail.com \n  \nAbout SEA Junction\, OUR Venue on Southeast Asia  \nSEA Junction aims to foster understanding and appreciation of Southeast Asia in all its socio-cultural dimensions –from arts and lifestyles to economy and development. Conveniently located at Room 408 of the Bangkok Arts and Culture Centre or BACC (across MBK\, BTS National Stadium) SEA junction facilitates public access to knowledge resources and exchanges among students\, practitioners and Southeast Asia lovers. For more information see www.seajunction.org and join the Facebook group https://www.facebook.com/groups/1693055870976440/ \n \nShare on FacebookTweetFollow usSave
URL:https://seajunction.org/event/public-lecture-asean-development-fifty-michael-vatikiotis/
LOCATION:SEA Junction\, Room 408\, BACC\, 939 Rama 1 Rd\, Pathum Wan\, Khet Pathum Wan\, Krung Thep Maha Nakhon 10330 Bangkok\, Thailand\, Bangkok\, Thailand
CATEGORIES:Event
END:VEVENT
END:VCALENDAR