BEGIN:VCALENDAR
VERSION:2.0
PRODID:-//SEA Junction - ECPv4.9.4//NONSGML v1.0//EN
CALSCALE:GREGORIAN
METHOD:PUBLISH
X-WR-CALNAME:SEA Junction
X-ORIGINAL-URL:https://seajunction.org
X-WR-CALDESC:Events for SEA Junction
BEGIN:VTIMEZONE
TZID:"Asia/Krasnoyarsk"
BEGIN:STANDARD
TZOFFSETFROM:+0700
TZOFFSETTO:+0700
TZNAME:+07
DTSTART:20180101T000000
END:STANDARD
END:VTIMEZONE
BEGIN:VEVENT
DTSTART;VALUE=DATE:20180724
DTEND;VALUE=DATE:20180902
DTSTAMP:20260425T123403
CREATED:20180724T062102Z
LAST-MODIFIED:20180724T062102Z
UID:9404-1532390400-1535846399@seajunction.org
SUMMARY:SEAΔ
DESCRIPTION:\nDeadline:  1 September 2018.\n\nDuration: 26 November 2018 – September 2019\n \nSEAΔ is a program co-created by Mekong Cultural Hub and British Council which creates space for cultural practitioners to reflect on how their work in arts and culture can contribute to sustainable development within South East Asia through their individual and collective leadership.\n \nEach year we will select 10 Fellows from 10 countries: Cambodia\, Laos\, Myanmar\, Thailand\, Vietnam\, Malaysia\, Indonesia\, Philippines\, Taiwan and the United Kingdom.\n \nThe program has 4 main gatherings spread over a one-year period where Fellows get together. Each gathering takes place in a different country and has a unique purpose:  exchange\, create\, share then reflect.\n\n \nSource: https://mekongculturalhub.org/portfolio/leadership/\nShare on FacebookTweetFollow usSave
URL:https://seajunction.org/event/sea%ce%b4/
LOCATION:Taipei\, Bangkok\, Myanmar
CATEGORIES:Courses
END:VEVENT
END:VCALENDAR