BEGIN:VCALENDAR
VERSION:2.0
PRODID:-//SEA Junction - ECPv4.9.4//NONSGML v1.0//EN
CALSCALE:GREGORIAN
METHOD:PUBLISH
X-WR-CALNAME:SEA Junction
X-ORIGINAL-URL:https://seajunction.org
X-WR-CALDESC:Events for SEA Junction
BEGIN:VTIMEZONE
TZID:"Asia/Krasnoyarsk"
BEGIN:STANDARD
TZOFFSETFROM:+0700
TZOFFSETTO:+0700
TZNAME:+07
DTSTART:20180101T000000
END:STANDARD
END:VTIMEZONE
BEGIN:VEVENT
DTSTART;TZID="Asia/Krasnoyarsk":20180929T170000
DTEND;TZID="Asia/Krasnoyarsk":20180929T183000
DTSTAMP:20260425T130701
CREATED:20180924T065932Z
LAST-MODIFIED:20180924T065932Z
UID:9799-1538240400-1538245800@seajunction.org
SUMMARY:Show and Tell Introduction to the “Intricacies of West Timor Textiles and Weaving Techniques” by Irwan Julianto
DESCRIPTION:Indonesia is rich in textiles. On 29 September 2018 at 5PM\, collector Irwan Julianto will talk about the less known\, yet extremely fascinating textile cultural tradition of West Timor in East Nusa Tenggara Province\, which is also shared to some extent with neighbouring Timor Leste in the same Timor Island\, also known as the Island of Sandalwood. \nAs the speaker will show from his collection\, West Timor’s woven textiles are characterized by very diverse and colourful motifs\, and by at least four unique techniques of weaving: tied and dyed warp weaving\, alternating warp weaving\, supplementary-weft wrapping (which in Indonesia is only found in Timor Island)\, and slit tapestry. \nWest Timor has five districts\, and each district has its own special motifs and techniques. Even at the sub-district level there are differences of motifs and techniques. West Timor woven textiles have their own styles\, but also show ties to North Vietnam’s Dongson culture\, Yunnan of Southern China\, India\, and were influenced by Dutch and Portuguese presence during colonial time. \nSpeaker Profile \nIrwan Julianto is a senior journalist and textile enthusiast from Indonesia who has travelled throughout West Timor several times\, and collected woven textiles from the five districts. \nSource: Warp Tied and Dyed Weaving\, Tokbesi village(photo by Irwan Julianto). \nFor information/reservation for our events please email southeastasiajunction@gmail.com or phone/wa: +66970024140 \nNB: Events are free\, but donation most welcome! \nOrganizer \nSEA Junction\, OUR Venue on Southeast Asia  \nSEA Junction aims to foster understanding and appreciation of Southeast Asia in all its socio-cultural dimensions –from arts and lifestyles to economy and development. Conveniently located at Room 408 of the Bangkok Arts and Culture Centre or BACC (across MBK\, BTS National Stadium) SEA junction facilitates public access to knowledge resources and exchanges among students\, practitioners and Southeast Asia lovers. For more information see www.seajunction.org and join the Facebook group https://www.facebook.com/groups/1693055870976440/ \nSource: Long tubular sarong (photo by Irwan Julianto) \nShare on FacebookTweetFollow usSave
URL:https://seajunction.org/event/show-and-tell-introduction-to-the-intricacies-of-west-timor-textiles-and-weaving-techniques-by-irwan-julianto/
LOCATION:SEA Junction\, Room 408\, BACC\, 939 Rama 1 Rd\, Pathum Wan\, Khet Pathum Wan\, Krung Thep Maha Nakhon 10330 Bangkok\, Thailand\, Bangkok\, Thailand
CATEGORIES:Event
END:VEVENT
END:VCALENDAR