BEGIN:VCALENDAR
VERSION:2.0
PRODID:-//SEA Junction - ECPv4.9.4//NONSGML v1.0//EN
CALSCALE:GREGORIAN
METHOD:PUBLISH
X-WR-CALNAME:SEA Junction
X-ORIGINAL-URL:https://seajunction.org
X-WR-CALDESC:Events for SEA Junction
BEGIN:VTIMEZONE
TZID:"Asia/Krasnoyarsk"
BEGIN:STANDARD
TZOFFSETFROM:+0700
TZOFFSETTO:+0700
TZNAME:+07
DTSTART:20200101T000000
END:STANDARD
END:VTIMEZONE
BEGIN:VEVENT
DTSTART;VALUE=DATE:20200628
DTEND;VALUE=DATE:20200701
DTSTAMP:20260425T104654
CREATED:20200504T031328Z
LAST-MODIFIED:20200504T031328Z
UID:16174-1593302400-1593561599@seajunction.org
SUMMARY:Thailand International Postgraduate Programme (TIPP) Scholarships 2020
DESCRIPTION:The Thailand International Cooperation Agency Ministry of Foreign Affairs of Thailand is accepting applications for the Thailand International Postgraduate Programme (TIPP) 2020. Today\, in addition to fellowships and scholarships offered as part of bilateral and triangular development cooperation projects\, TICA offers 70 postgraduate scholarships for government officials from developing countries around the world. \nThailand International Postgraduate Programme (TIPP) was introduced in 2000 as a framework in providing postgraduate scholarships for developing partners. Believing that knowledge sharing is an important pillar of South-South Cooperation\, TIPP offers opportunities for Thailand and its partners to exchange their experiences and best practices that would contribute to long-term and sustainable development for all. \nBenefits of the Award \nThe Royal Thai Government will bear the following expenses for successful candidates during their study in Thailand. the expenses include: \n\nReturn economy class air ticket and airport pick-up service\nMonthly subsistence\, settlement\, books and thesis allowance\nTuition fee: Awardees’ tuition fee will be directly reimbursed from TICA\, except equipment insurance fee\, transcript and certificate fee\n\nEligibility \n\nCandidates must be nominated by the National Focal Point for International Development Cooperation in a country from the TIPP eligible countries/territories list.\nCandidates should be working in the area related to the course provided\nCandidates must have Bachelor’s degree and/or professional experience related to the field or related to graduate degree.\nCandidates must have a good command of English. Candidates who English is not their first language and Bachelor’s degree was not taught in English have to pass an English Language proficiency test according to criteria announced by University regulations\nIt is recommended that candidates be less than 50 years of age.\nCandidates must have good physical and mental condition.\nTICA reserves the right to revoke scholarship offered to awardees who violate rules and regulations.\nOther requirements apart from these will be under consideration by the University regulations.\n\nApplication \nThe candidates must be nominated by the National Focal Point for International Development Cooperation (such as Ministry of Foreign Affairs) or by relevant central government agencies for which the nominated candidates currently work. Nomination must be in line with relevant rules and regulations of the nominating countries/territories. The National Focal Point will forward the nominated candidates’ documents to the Royal Thai Embassy/Permanent Mission of Thailand to the United Nations/Royal Thai Consulate – General accredited to eligible countries/territories. \n\nPlease prepare one (1) original with two (2) copies of each document as these following items:\nTIPP application form here.\nMedical report\nTranscript of Bachelor’s degree (to show the courses that you have learnt throughout Bachelor’s degree)\nCertificate of Bachelor’s degree\nEnglish test score (e.g. TOEFL\, IELTS)\nRecommendation Letter (At least 3 people)\nThesis proposal or other documents (As University request)\n\nAll forms are duly filled out and endorsed by the candidates’ supervisor and the National Focal Point for International Development Cooperation. All of related documents must be in English. \nthe candidates must fill in the online application form on TICA website: Thailand International Cooperation Agency (TICA). Menu: Fellowships and Scholarships\, Sub -menu: Thailand International Postgraduate programme\, Click on: TIPP 2020 \nClick here to apply. Download the application form here. \n  \nSource: https://opportunitydesk.org/2020/05/02/thailand-international-postgraduate-programme-tipp-scholarships-2020/ \nShare on FacebookTweetFollow usSave
URL:https://seajunction.org/event/thailand-international-postgraduate-programme-tipp-scholarships-2020/
LOCATION:Thailand
CATEGORIES:Courses
END:VEVENT
END:VCALENDAR