BEGIN:VCALENDAR
VERSION:2.0
PRODID:-//SEA Junction - ECPv4.9.4//NONSGML v1.0//EN
CALSCALE:GREGORIAN
METHOD:PUBLISH
X-WR-CALNAME:SEA Junction
X-ORIGINAL-URL:https://seajunction.org
X-WR-CALDESC:Events for SEA Junction
BEGIN:VTIMEZONE
TZID:"Asia/Krasnoyarsk"
BEGIN:STANDARD
TZOFFSETFROM:+0700
TZOFFSETTO:+0700
TZNAME:+07
DTSTART:20250101T000000
END:STANDARD
END:VTIMEZONE
BEGIN:VEVENT
DTSTART;VALUE=DATE:20250615
DTEND;VALUE=DATE:20250616
DTSTAMP:20260425T104859
CREATED:20250608T132640Z
LAST-MODIFIED:20250608T132847Z
UID:27528-1749945600-1750031999@seajunction.org
SUMMARY:The 18th International Indonesia Forum Conference: Good Governance and Democracy in Indonesia
DESCRIPTION:Conference Date: 17–18 September 2025 \nPlace: Paramadina University\, Jakarta\, Indonesia \nDeadline: 15 June 2025 \nLife in Indonesia’s democracy is covered by various forms of administration and responsible management exhibiting these practices in companies\, civil groups\, organizations\, and especially the public government. Democracy and good governance are essential\, especially in these challenging and unsettled times. Indonesia has witnessed an electoral democracy with changing democratic norms and practices since the previous century. \nThe focus of the 18th International Indonesia Forum Conference Good Governance and Democracy in Indonesia is on examining various aspects of democracy\, good governance\, and management practices in all their different forms in Indonesia\, from religious practices to cultural activities and groups\, from company or project management to the different levels of the government including assessments of the current state of Indonesian democracy on both the local\, regional as well as the national level. All good governance practices can contribute to the improvement and safeguarding of a brighter future for Indonesia. The opposite\, however\, can also be true; case studies of failure can also provide lessons for a better future.  Hence\, the International Indonesia Forum once again calls to the community of scholars focused on Indonesia to gather and share their research and expertise. Your voice is needed. \nThe 18th International Indonesia Forum conference will be held on 17–18 September 2025 at Paramadina University\, Jakarta\, Indonesia\, and will be organized in the broader framework of the Paramadina University initiative of the International Conference on Democracy\, Prosperity\, and Peace: Problems and Prospects. Persons wishing to present papers at the 18th International Indonesia Forum conference are invited to submit a short CV and one-page abstract in electronic form (PDF or Microsoft Word) to Dr. Frank Dhont at frank.dhont@iif.or.id and secretariat@iif.or.id\, respectively\, by 15 June 2025. All abstracts must be in English\, and papers will likewise be presented in English. \nFor more information: https://iif.or.id/?fbclid=IwY2xjawKq7xRleHRuA2FlbQIxMABicmlkETFoNTF4WGhZNEVuRXR5MXNDAR6ats4-TPzxuxFqcEV6sJQQ9DVjcXD–39D5a0HffNh1ScICqkZkY3KTiPoqw_aem_gKjRMNn58zgwzwiKjcLf5Q \nShare on FacebookTweetFollow usSave
URL:https://seajunction.org/event/the-18th-international-indonesia-forum-conference-good-governance-and-democracy-in-indonesia/
CATEGORIES:Conferences
END:VEVENT
END:VCALENDAR