BEGIN:VCALENDAR
VERSION:2.0
PRODID:-//SEA Junction - ECPv4.9.4//NONSGML v1.0//EN
CALSCALE:GREGORIAN
METHOD:PUBLISH
X-WR-CALNAME:SEA Junction
X-ORIGINAL-URL:https://seajunction.org
X-WR-CALDESC:Events for SEA Junction
BEGIN:VTIMEZONE
TZID:"Asia/Krasnoyarsk"
BEGIN:STANDARD
TZOFFSETFROM:+0700
TZOFFSETTO:+0700
TZNAME:+07
DTSTART:20200101T000000
END:STANDARD
END:VTIMEZONE
BEGIN:VEVENT
DTSTART;VALUE=DATE:20201130
DTEND;VALUE=DATE:20201201
DTSTAMP:20260425T104811
CREATED:20200814T130200Z
LAST-MODIFIED:20200814T130200Z
UID:16961-1606694400-1606780799@seajunction.org
SUMMARY:The MA in Southeast Asian Studies Program at Chulalongkorn University
DESCRIPTION:The MA in Southeast Asian Studies program is opening for second round applications for spring semester (January 2021-May 2021). Deadline for applications will end in November 15\, 2020. \nFurther information\, please do not hesitate to contact us at seachula@gmail.com\nor https://www.facebook.com/seas.chula/ or call us +66 2-218-3104 \n \nSource: https://www.facebook.com/photo.php?fbid=3803642246329540&set=a.175523952474739&type=3&theater \nShare on FacebookTweetFollow usSave
URL:https://seajunction.org/event/the-ma-in-southeast-asian-studies-program-at-chulalongkorn-university/
LOCATION:Bangkok\, Thailand\, Bangkok\, Bangkok\, Thailand
CATEGORIES:Courses
END:VEVENT
END:VCALENDAR