BEGIN:VCALENDAR
VERSION:2.0
PRODID:-//SEA Junction - ECPv4.9.4//NONSGML v1.0//EN
CALSCALE:GREGORIAN
METHOD:PUBLISH
X-WR-CALNAME:SEA Junction
X-ORIGINAL-URL:https://seajunction.org
X-WR-CALDESC:Events for SEA Junction
BEGIN:VTIMEZONE
TZID:"Asia/Krasnoyarsk"
BEGIN:STANDARD
TZOFFSETFROM:+0700
TZOFFSETTO:+0700
TZNAME:+07
DTSTART:20170101T000000
END:STANDARD
END:VTIMEZONE
BEGIN:VEVENT
DTSTART;VALUE=DATE:20170811
DTEND;VALUE=DATE:20171108
DTSTAMP:20260425T164238
CREATED:20170811T160419Z
LAST-MODIFIED:20170811T160419Z
UID:7114-1502409600-1510099199@seajunction.org
SUMMARY:UK Chevening Scholarships to Open on 8 August. Applications from ASEAN Welcome
DESCRIPTION:Chevening is the UK government’s international awards scheme aimed at developing global leaders since 1983. \nFunded by the Foreign and Commonwealth Office (FCO) and partner organizations\, Chevening offers two types of award – Chevening Scholarships and Chevening Fellowships – the recipients of which are personally selected by British Embassies and High Commissions throughout the world. \nChevening offers a unique opportunity for future leaders\, influencers\, and decision-makers from all over the world to develop professionally and academically\, network extensively\, experience UK culture\, and build lasting positive relationships with the UK. \n  \nSource: https://euraxess.ec.europa.eu/worldwide/asean/uk-chevening-scholarships-open-8-august-applications-asean-welcome \nShare on FacebookTweetFollow usSave
URL:https://seajunction.org/event/uk-chevening-scholarships-open-8-august-applications-asean-welcome/
CATEGORIES:Opportunities
END:VEVENT
END:VCALENDAR