BEGIN:VCALENDAR
VERSION:2.0
PRODID:-//SEA Junction - ECPv4.9.4//NONSGML v1.0//EN
CALSCALE:GREGORIAN
METHOD:PUBLISH
X-WR-CALNAME:SEA Junction
X-ORIGINAL-URL:https://seajunction.org
X-WR-CALDESC:Events for SEA Junction
BEGIN:VTIMEZONE
TZID:"Asia/Krasnoyarsk"
BEGIN:STANDARD
TZOFFSETFROM:+0700
TZOFFSETTO:+0700
TZNAME:+07
DTSTART:20170101T000000
END:STANDARD
END:VTIMEZONE
BEGIN:VEVENT
DTSTART;TZID="Asia/Krasnoyarsk":20170303T090000
DTEND;TZID="Asia/Krasnoyarsk":20170304T170000
DTSTAMP:20260425T102127
CREATED:20160522T035044Z
LAST-MODIFIED:20170216T020548Z
UID:1213-1488531600-1488646800@seajunction.org
SUMMARY:Vietnam and Korea as "Longue Durée" Subjects: Negotiating Tributary and Colonial Positions
DESCRIPTION:The conference\nComparative studies are located at the heart of humanities and social science studies (Détienne 2000\, Werner and Zimmermann 2004; Felsky & Friedman 2013)\, particularly in area studies (Anderson 1998\, Lieberman 2009). In that field especially\, implicit or explicit comparisons often determine certain conceptions of regional and sub-regional orders. For example\, the study of East Asia is implicitly situated within a comparative approach to China and the Sinitic culture. What other “strange parallels” (Lieberman) could possibly be operational to set a “comparative gesture” (Robinson 2011) that would not be determined by usual ‘silo-style’ conceptions of Asia? How to trigger new connections and parallels in area studies? \nIn partnership with a number of universities and institutions\, IIAS and its partners set out to address this “comparative gesture” by initiating a deliberate by-pass of dominant geometries and meta-narratives. One way to do so will be by organizing conferences or other forms of interactive platforms that would explore unexploited or only partially studied parallels and connections. In doing so\, it will not only seek to contribute to renew how ‘Asian studies’ is methodological framed. By identifying new articulations beyond established approaches of global history\, it seeks to underscore the intellectual merits – as well as limits – of comparisons as a social science and humanities method. \nConference 1:\nVietnam and Korea as Longue Durée Subjects: Negotiating Tributary and Colonial Positions\nThe first proposed event will focus on Korea and Vietnam\, two major regional nations and societies in Asia: as great kingdoms in the pre-modern period they developed\, sometimes within and sometimes outside of the Sinitic “tributary” system\, strong political organizations and original civilizations. The vicissitudes of the modern and contemporary periods\, first with the experience of colonial subjugation\, then international warfare and civil conflicts resulting in division of the two countries set much connections and parallels in the two countries’ trajectories. Today\, Vietnam and Korea continue to stand at the edge of the two great ideological systems that shaped the twentieth century\, socialism and capitalism\, yet in a divergent ways – Vietnam being reunified and having entered post-communist-pro-capitalist State authoritarianism while Korea remains divided between two models of statehood and governance. \nThe conference is conceived as an exploratory exercise to identify points of connections in which scholars of Vietnam and Korea could confront their work and engage their paradigms. As an ongoing project historically grounded with contemporary perspective situated within the larger Asia-global spectrum as well as for practical sake\, the first part of the conference entitled Vietnam and Korea as Longue Durée Subjects: Negotiating Tributary and Colonial Positions will focus on two conventionally agreed historiographies of the countries’: their ‘pre-modern’ and ‘colonial’ periods. An underlying question this conference aims to address will be: How the Korean and Vietnamese states and their civil societies\, concepts that shaped during the tributary system\, became formulated during the modernization period? \nVarious approaches and disciplines are invited to interact. \nTopics that would be particularly relevant for the conferences include – but should not be restricted to – the following: \n\nAncient kingdoms: indigenization of Sinitic culture and resources; articulation with vernacular cultures (e.g. indigenous religious systems and beliefs);\nPre-modern urban cultures\, bureaucracies\, statehood;\nWays of dealing with the world and China: diplomatic cultures and techniques\, exchange\, commerce\, piracy;\nWestern incursions and missionary experiences in Korea and Vietnam\nLooking at China\, Japan and other Asian countries from Korea and Vietnam;\nWriting and languages (relation to Chinese writing systems\, and vernacularization processes; linguistic innovations and hybridization);\nColonial experiences\, including differences of governmentalities\, processes of modernization; cities and modern urban cultures; transcultural experiments; forms of political (and cultural) resistance and contestation; new cosmopolitanisms.\n\nIndividual presentations may not be restricted to works explicitly comparing Korea and Vietnam\, yet presenters have to bear in mind the ultimate purpose of framing debates in comparison between the two Asian countries and their societies. Likewise\, studies from scholars specialized on China\, Japan\, and other Asian countries are welcome\, provided they contribute to the general problematic of the workshop. Junior scholars are particularly encouraged to submit abstracts. \nA second part of the conference\, focusing on the contemporary Korean and Vietnamese conditions\, from 1945 onward\, will be held in Korea the following year. \nRequirements\nPaper proposals should be submitted via the form available on our website by Tuesday 5 July 2016. Successful applicants will be notified by 31 August 2016 and will be required to send a draft paper (6000 – 8000 words) by 15 January 2017. | Go to the submission form \nFinancial support\nParticipants are expected to pay their own travel and accommodation expenses. Limited financial support may be made available to some scholars who reside in Asia and some junior or low-income scholars from other parts of the world. If you would like to be considered for a grant\, please submit the Grant Application Form in which you state the motivation for your request. Please also specify the kind of funding that you will apply for or will receive from other sources. Please note that the conference operates on a limited budget\, and will not normally be able to provide more than a partial coverage of the costs of travel. The form should be submitted by 5 July 2016. Requests for funding received after this date will not be taken into consideration. \nInformation\nFurther information about the venue\, suggestions for accommodation\, and logistics will be provided on our webpage once the proposals have been accepted. \nFor questions\, please contact Ms Martina van den Haak at m.c.van.den.haak@iias.nl \nSteering Committee\nProf. Kang Myungkoo (SNUAC)\nProf. Nguyen Van Kim (VNU)\nProf. Remco Breuker (Leiden University)\nDr Valérie Gelézeau (EHESS)\nDr Philippe Peycam (IIAS) \nAn initiative directed by IIAS \n  \nSource : http://list.iias.asia/ \nShare on FacebookTweetFollow usSave
URL:https://seajunction.org/event/vietnam-korea-longue-duree-subjects-negotiating-tributary-colonial-positions/
LOCATION:Hanoi\, Viet Nam
CATEGORIES:Conferences
END:VEVENT
END:VCALENDAR