BEGIN:VCALENDAR
VERSION:2.0
PRODID:-//SEA Junction - ECPv4.9.4//NONSGML v1.0//EN
CALSCALE:GREGORIAN
METHOD:PUBLISH
X-WR-CALNAME:SEA Junction
X-ORIGINAL-URL:https://seajunction.org
X-WR-CALDESC:Events for SEA Junction
BEGIN:VTIMEZONE
TZID:"Asia/Krasnoyarsk"
BEGIN:STANDARD
TZOFFSETFROM:+0700
TZOFFSETTO:+0700
TZNAME:+07
DTSTART:20180101T000000
END:STANDARD
END:VTIMEZONE
BEGIN:VEVENT
DTSTART;VALUE=DATE:20180801
DTEND;VALUE=DATE:20180901
DTSTAMP:20260425T175514
CREATED:20180602T124349Z
LAST-MODIFIED:20180602T124349Z
UID:8943-1533081600-1535759999@seajunction.org
SUMMARY:Visual Documentary Project 2018
DESCRIPTION:Deadline : August 31st\, 2018 \n\nGreetings Filmmakers and Friends! \nThe Center for Southeast Asian Studies (CSEAS)\, Kyoto University is calling for documentaries for the 7th Visual Documentary Project! Please circulate to all filmmakers in the region. Please help us reach out to young aspiring filmmakers in Southeast Asia! \nTHEME: Popular Culture and Southeast Asia \nSoutheast Asia: a region rich in popular cultural traditions. How do popular music\, art\, literature\, theatre\, comedy\, dance\, sport and film\, move people in Southeast Asia? What makes them laugh\, cry and feel? Inspire us! For 2018\, we open up the visual documentary project to documentaries that capture popular cultures across the region. \nREQUIREMENTS \n1. Applicants must be citizens from Southeast Asia or Japan.\n2. Documentaries should be no longer than 30 minutes.\n3. Applicants should make sure they have permission from any subjects that appear in the movies.\n4. Documentaries should include English subtitles.Translation and subtitling is also the responsibility of applicants. \n*Selected documentaries will be screened in their original languages with both Japanese and English subtitles. However\, documentaries that are in English will only have Japanese subtitles added and vice versa \n\nSource: https://vdp.cseas.kyoto-u.ac.jp/en/vdp2018/\n\n \nShare on FacebookTweetFollow usSave
URL:https://seajunction.org/event/visual-documentary-project-2018/
LOCATION:Kyoto\, Japan\, Kyoto\, Japan
CATEGORIES:Opportunities
END:VEVENT
END:VCALENDAR