BEGIN:VCALENDAR
VERSION:2.0
PRODID:-//SEA Junction - ECPv4.9.4//NONSGML v1.0//EN
CALSCALE:GREGORIAN
METHOD:PUBLISH
X-WR-CALNAME:SEA Junction
X-ORIGINAL-URL:https://seajunction.org
X-WR-CALDESC:Events for SEA Junction
BEGIN:VTIMEZONE
TZID:"Asia/Krasnoyarsk"
BEGIN:STANDARD
TZOFFSETFROM:+0700
TZOFFSETTO:+0700
TZNAME:+07
DTSTART:20210101T000000
END:STANDARD
END:VTIMEZONE
BEGIN:VEVENT
DTSTART;VALUE=DATE:20210215
DTEND;VALUE=DATE:20210216
DTSTAMP:20260425T161614
CREATED:20210117T233355Z
LAST-MODIFIED:20210117T233355Z
UID:17781-1613347200-1613433599@seajunction.org
SUMMARY:"Weaving Tales" Short Story Competition
DESCRIPTION: In partnership with Maybank Foundation\, the ASEAN Foundation is pleased to invite writers across ASEAN to participate in the Maybank Women Eco-Weavers (MWEW) First Edition of the “Weaving Tales” Short Story Competition. \nMWEW is a programme that promotes traditional textiles globally in a sustainable manner whilst creating economic independence and financial inclusion for women weavers across ASEAN region. The “Weaving Tales” Short Story Competition was launched with the aim to preserve the traditions and cultural heritage across the region\, and to foster building the ASEAN identity as aligned to the ASEAN Socio-Cultural Community Blueprint 2025\, in addition to promoting the aspirations of the UN Sustainable Development Goals. \nThe theme of this MWEW First Edition is “Preservation and Acknowledgment of the Ancient Art of Textile Weaving Across ASEAN”. \nThe competition will provide the opportunity for all participating writers to present their creativity\, imagination\, visions\, hopes and worries to the struggles to preserve the ancient art of textile weaving by the women weavers across ASEAN in the format of a short literature. \nELIGIBILITY\, RULES\, AND COPYRIGHT \nEligibility \n\nThe competition is open to all writers who are citizens of ASEAN Member States (AMS)—Brunei Darussalam\, Cambodia\, Indonesia\, Lao PDR\, Malaysia\, Myanmar\, Philippines\, Singapore\, Thailand\, and Viet Nam.\n\nCriteria \n\nEach participant may submit only one story to the competition.\nThe closing date for submission is 23:59 PM (GMT +7)\, Monday\, 15 February 2021. Late entries will not be accepted.\n\nEntry and Selection Rules \n\nEach stories entry must clearly and creatively address the theme “Preservation and Acknowledgment of the Ancient Art of Textile Weaving Across ASEAN”.\nEntries must be written in English of 250 (minimum) to 500 words (maximum) that fit onto two A4 pieces of paper recto-verso.\nEntries must be typed using Calibri 12-point regular font and 1.15 line spacing.\nEntries must be original piece\, must not have won award or must not under consideration in other competitions.\nAuthors must exercise stringent care to avoid plagiarism. Entries containing any forms of plagiarism will not be tolerated.\nStories must reflect on the values of inclusivism\, anti-discrimination\, equality\, and gender responsive.\nEntries must reflect on the inclusive\, peaceful\, and sustainable future of Eco weaving tradition.\nDrawings and illustrations are optional.\nEntries depicting violence\, sexism\, racism\, or other inappropriate content such as smoking\, drinking\, or other vices\, including messaging deemed to advocate curtailment of the rights of others\, will be disqualified.\n\nCopyrights \n\nBy entering the competition\, participants acknowledge and guarantee that the submitted stories is an original work created solely by the entrant and that it does not infringe on copyrights; trademarks; and the rights of privacy\, publicity\, or intellectual property rights of any person or entity.\nBy submitting an entry to the competition\, participants agree to grant ASEAN Foundation and Maybank Foundation the right to reproduce\, distribute\, display\, and create derivative works of the entry in any media at any time.\n\nSubmission Rules \nEach participating writer must submit their works through online application form and follow the instructions outlined below: \n\nComplete your profile including name\, gender\, age\, nationality\, contact and address;\nAttach your short story in the available column as a Word or a PDF format;\nComplete brief information about your short story\, e.g. the title and the word count;\n\nParticipation in the competition implies full acceptance and comprehension of these rules and all of the provisions. Please mind that non-compliance will result in disqualification. \nAwards \n\nCash prizes in the tone of USD$ 250 for the top 20 selected stories:\nThe winning entries will be published in the MWEW First Edition.\n\nSubmit your story at https://form.jotform.com/203218071402441 \nCompetition closes at 23:59 (GMT +7)\, Monday\, 15 February 2021. \nContact: secretariat@aseanfoundation.org \n  \nSource: https://www.aseanfoundation.org/maybank_women_eco_weavers_weaving_tales_short_story_competition \nShare on FacebookTweetFollow usSave
URL:https://seajunction.org/event/weaving-tales-short-story-competition/
LOCATION:Online
CATEGORIES:Opportunities
END:VEVENT
END:VCALENDAR