BEGIN:VCALENDAR
VERSION:2.0
PRODID:-//SEA Junction - ECPv4.9.4//NONSGML v1.0//EN
CALSCALE:GREGORIAN
METHOD:PUBLISH
X-WR-CALNAME:SEA Junction
X-ORIGINAL-URL:https://seajunction.org
X-WR-CALDESC:Events for SEA Junction
BEGIN:VTIMEZONE
TZID:"Asia/Krasnoyarsk"
BEGIN:STANDARD
TZOFFSETFROM:+0700
TZOFFSETTO:+0700
TZNAME:+07
DTSTART:20170101T000000
END:STANDARD
END:VTIMEZONE
BEGIN:VEVENT
DTSTART;VALUE=DATE:20170731
DTEND;VALUE=DATE:20170802
DTSTAMP:20260423T014312
CREATED:20170709T134151Z
LAST-MODIFIED:20170709T134151Z
UID:6700-1501459200-1501631999@seajunction.org
SUMMARY:Workshop on 'Ecological Spirituality in Cambodia: Exploring Environmental Justice and Sustainable Citizenship'
DESCRIPTION:The Workshop on ‘Ecological Spirituality in Cambodia: Exploring Environmental Justice and Sustainable Citizenship’ will bring together environmental activists\, religious figures and academics from across Cambodia and the region\, in order to foster dialogue among local practitioners and scholars on the challenges of environmental justice and sustainable development in Cambodia today.\n \nWith the drive to modernize leading to the depletion of Cambodia’s  natural resources and threats to traditional ways of living\, new understandings of rights–based citizenship and environmental responsibility are giving rise to rediscovered forms of local activism and resistance. From the forests of Prey Lang to the valleys of Areng\, a diverse cast of environmental defenders have come into being\, with the aim of protecting these fragile ecological systems and promoting the sustainable use of their resources. Accompanying efforts to redefine and assert their rights\, these defenders are initiating a resurgence in ecological spirituality. Here\, indigenous knowledge\, traditional social values and religious beliefs are coming to feature prominently in contemporary imaginations of the human–nature relationship\, and in efforts to bring about a more just environment. \n \nContact: p.yeophantong@unsw.edu.a\nSource: https://www.eventbrite.com/e/workshop–on–ecological–spirituality–in–cambodia–tickets–35876752332\nShare on FacebookTweetFollow usSave
URL:https://seajunction.org/event/workshop-ecological-spirituality-cambodia-exploring-environmental-justice-sustainable-citizenship/
LOCATION:InterContinental Hotel\, Phnom Penh\, Cambodia\, Cambodia
CATEGORIES:Courses
END:VEVENT
END:VCALENDAR