BEGIN:VCALENDAR
VERSION:2.0
PRODID:-//SEA Junction - ECPv4.9.4//NONSGML v1.0//EN
CALSCALE:GREGORIAN
METHOD:PUBLISH
X-WR-CALNAME:SEA Junction
X-ORIGINAL-URL:https://seajunction.org
X-WR-CALDESC:Events for SEA Junction
BEGIN:VTIMEZONE
TZID:"Asia/Krasnoyarsk"
BEGIN:STANDARD
TZOFFSETFROM:+0700
TZOFFSETTO:+0700
TZNAME:+07
DTSTART:20250101T000000
END:STANDARD
END:VTIMEZONE
BEGIN:VEVENT
DTSTART;TZID="Asia/Krasnoyarsk":20250128T110000
DTEND;TZID="Asia/Krasnoyarsk":20250302T190000
DTSTAMP:20260425T142919
CREATED:20250208T154434Z
LAST-MODIFIED:20250208T154434Z
UID:26873-1738062000-1740942000@seajunction.org
SUMMARY:Art Exhibition A Myanmar Odyssey: 4 Years of Fight and Displacement
DESCRIPTION:The exhibition\, featuring the work of Myanmar artist Shwe Wutt Hmon\, is born out of solidarity with the people of Myanmar that has been fighting for democracy since the coup d’état led by General Min Aung Hlaing on 1 February 2021. Within a matter of days\, youths and older people from all walks of life began to pour onto the streets in outrage and protest against the military. Since then\, for almost four years now\, the population has been demanding the restoration of democracy and the release of the imprisoned leaders and all other political prisoners in spite of the military’s use of lethal force. Amidst the failure of the international community to respond and take action\, people are not giving up\, continuing their support for the opposition National Unity Government (NUG) in exile. Many young people have taken up arms and joined the armed struggle as a last recourse against dictatorship\, with many counting on the armed resistance by the People Defence Force and the Ethnic Armies gaining ground to eventually win the revolution. \nTheir resistance has come at a heavy price. As of November 2024\, 5\,973 people have been confirmed killed by the junta and a total of 27\,694 people have been arrested\, with 21\,137 currently detained and 170 people have been sentenced to death. 577 children have been arrested and 660 children killed (AAPP). The number of displaced people in the country and across borders is over 3 million and growing as young people leave the country to escape from forced conscription in the army. \nSEA Junction presents this fourth commemorative art exhibition as part of its commitment to raise awareness of the Myanmar coup crisis among the general public through art. Originally installed to be exhibited from 28 January – 9 February 2025\, the exhibition period has been extended to 2 March 2025. This year\, the focus of the exhibition is on the coup’s aftermath as an “odyssey”\, to signify the long and perilous journey in challenging the dictatorship as well as the patriarchal norms at its core\, and also the displacement of people from Myanmar within and outside the country. The art photographer\, Shwe Wutt Hmon expresses these intersecting messages through three artwork series in mixed media that together provide a multi-faceted image of the still enduring odyssey as the fight for a New Myanmar continues\, as briefly described below: \nForever Young (2021-2022) \nShwe Wutt Hmon’s “Forever Young” twin sets of photo-collage portraits of Gen Z protesters is dedicated to Myanmar’s forgotten youths. Their lives and dreams have been shattered but they remain extraordinarily dedicated and committed to saving their country from military dictatorship. Awash in red\, the faces of protesters in the two sets of 21 pieces each (one on a white and one on a black background) are remarkably absent. Their real identities are hidden in discomforting chaos\, in some instances obscured by delicate spring flowers\, in others by guns and bullets. The series documents the festering rage that has found a new outlet in the linguistic\, cultural\, and stylistic idiosyncrasies of the nation’s Gen Z. \nPortraits of the Anonymous \nLike in the quote adapted from a line of writer Virginia Woolf “For most of history\, anonymous was a woman”\, women who were among the crowds of photographers who documented the military coup remain invisible and anonymous to these days. This portrait series aims to highlight these lens-based practitioners\, from photographers and filmmakers to photojournalists and artists who covered the 2021 coup d’état. Against the background of coup-wise images\, shot by the each participating artist herself\, these women are portrayed in their professional postures\, along with their testimonies. “Portraits of the Anonymous” speaks about a collective history of women artists who were parts of the Burmese spring revolution\, vividly memorialising their struggles\, strengths\, labours\, and contributions. \nPermission to Stay (2022-2024) \nThe artist left Myanmar after the military coup and eventually relocated to Chiang Mai in November 2021\, where she tried to build a new life in exile\, struggling to find stability and a sense of belonging. This mixed-media self-portrait series explores the themes of migration and displacement. Printed and manually intervened\, outlined and colour filled on Saa paper\, a traditional Northern Thailand material\, the series narrates the artist’s journey with a mix of chaos\, humour\, and self-sarcasm. The series of 10 artworks captures the intersections of the artist’s identity as a Myanmar passport holder—one of the least protected and most discriminated statuses globally—her migration to Thailand\, and her life in limbo.  While acknowledging her privileged position compared to war refugees and stateless persons\, the artist exposes the emotional and financial toll of living in constant transition. This reflection on the burdens of displacement and the resilience needed to sail life as a migrant\, offer a deeply personal yet collectively resonant perspective of contemporary experiences. \nArtist Profile \nShwe Wutt Hmon is a Burmese photographer and mixed media artist. She was part of the protest against the Junta’s coup that overthrew their democratic government in the Spring of 2021. She developed ‘Forever Young’ and ‘Portraits of the Anonymous’ over the course of the Spring Revolution. Shwe’s poetically inclined repertoire often includes intimate\, contemplative images shot within private\, enclosed spaces. Since Shwe moved to Chiang Mai in November 2022\, she has become interested in experimenting with printing these scanner-generated self-portrait images on Saa Paper. \n \nFor more information\, please email: info@seajunction.org or phone/wa: +66970024140 \nNB: The exhibition is free\, but donations are welcome to support SEA Junction activities. \n  \nOrganizers \nSEA Junction \nSEA Junction\, established under the Thai non-profit organisation Foundation for Southeast Asia Studies (ForSEA)\, aims to foster understanding and appreciation of Southeast Asia in all its socio-cultural dimensions\, from arts and lifestyles to economy and development. Conveniently located at Room 407-8 of the Bangkok Arts and Culture Center or BACC (across MBK\, BTS National Stadium)\, SEA Junction facilitates public access to knowledge resources and exchanges among students\, practitioners and Southeast Asia lovers. For more information\, see www.seajunction.org\, join the Facebook group:  http://www.facebook.com/groups/1693058870976440/ and follow us on Twitter (X)\, Bluesky and Instagram @seajunction \n
URL:https://seajunction.org/event/art-exhibition-a-myanmar-odyssey-4-years-of-fight-and-displacement-2/
LOCATION:Curve wall\, 4th floor\, BACC
CATEGORIES:Event
END:VEVENT
BEGIN:VEVENT
DTSTART;TZID="Asia/Krasnoyarsk":20250228T160000
DTEND;TZID="Asia/Krasnoyarsk":20250228T190000
DTSTAMP:20260425T142919
CREATED:20250224T155219Z
LAST-MODIFIED:20250224T155755Z
UID:27034-1740758400-1740769200@seajunction.org
SUMMARY:“Reflections on AI for Social Innovation” Rapid Asia’s 15th Anniversary Event
DESCRIPTION:Background \nAs part of its 15th-anniversary celebration\, Rapid Asia is holding a public discussion at SEA Junction on 28 February 2025 from 4.00 – 7.00 pm on the roles of artificial intelligence (AI) in shaping the future of social development work in the region. The event\, titled “Reflections on AI for Social Innovation\,” will be hosted in a hybrid format\, welcoming participants both in person and online\, with the aim to explore the multiple dimensions of artificial intelligence (AI)\, including the growing influences of AI\, its impact on employment and education\, and roles of AI in the development sector in Southeast Asia and beyond. \nEvent Agenda \n \nTo register and reserve a seat\, please visit https://onlinesurvey.rapid–asia.com/primary/WebInterview/Q7X2ZNBE/Start \nFor more information\, please email: info@seajunction.org or phone/wa: +66970024140 \nNB: The event is free\, donations are welcome to support SEA Junction activities. \n \nOrganizers \nRapid Asia \nRapid Asia specializes in social research for social development clients and has extensive experience in consulting projects on monitoring and evaluation (M&E)\, both in terms of innovative design and efficient delivery. They aim to help social development clients to achieve sustainable change\, through evidence-based methodology. For more information\, please visit https://rapid-asia.com/ \nSEA Junction \nSEA Junction\, established under the Thai non-profit organization Foundation for Southeast Asia Studies (ForSEA)\, aims to foster understanding and appreciation of Southeast Asia in all its socio-cultural dimensions\, from arts and lifestyles to economy and development. Conveniently located at Room 407-8 of the Bangkok Arts and Culture Center or BACC (across MBK\, BTS National Stadium)\, SEA Junction facilitates public access to knowledge resources and exchanges among students\, practitioners and Southeast Asia lovers. For more information\, see www.seajunction.org\, join the Facebook group:  http://www.facebook.com/groups/1693058870976440/ and follow us on Bluesky\, Twitter\, and Instagram @seajunction \n
URL:https://seajunction.org/event/reflections-on-ai-for-social-innovation-rapid-asias-15th-anniversary-event/
LOCATION:SEA Junction\, 4th floor\, BACC
CATEGORIES:Event
END:VEVENT
END:VCALENDAR