BEGIN:VCALENDAR
VERSION:2.0
PRODID:-//SEA Junction - ECPv4.9.4//NONSGML v1.0//EN
CALSCALE:GREGORIAN
METHOD:PUBLISH
X-WR-CALNAME:SEA Junction
X-ORIGINAL-URL:https://seajunction.org
X-WR-CALDESC:Events for SEA Junction
BEGIN:VTIMEZONE
TZID:"Asia/Krasnoyarsk"
BEGIN:STANDARD
TZOFFSETFROM:+0700
TZOFFSETTO:+0700
TZNAME:+07
DTSTART:20250101T000000
END:STANDARD
END:VTIMEZONE
BEGIN:VEVENT
DTSTART;VALUE=DATE:20250304
DTEND;VALUE=DATE:20250317
DTSTAMP:20260425T161344
CREATED:20250221T035148Z
LAST-MODIFIED:20250221T035148Z
UID:27024-1741046400-1742169599@seajunction.org
SUMMARY:“Fragmentation: A Photo Exhibition by Nyein Chan Aung”
DESCRIPTION:The education situation in Burma (Myanmar) has been severely disrupted by ongoing political instability and conflict\, particularly following the military coup in February 2021. Many students and teachers have participated in the Civil Disobedience Movement (CDM)\, refusing to attend or operate under military-run institutions\, leading to a parallel system of learning developed by the National Unity Government and local communities. Moreover\, the conflict has displaced thousands\, making access to education even more challenging in Internally Displaced Persons (IDP) camps and remote areas\, where resources are scarce\, and conditions are not conducive to learning. This upheaval has exacerbated pre-existing challenges in educational equity\, quality\, and accessibility\, leaving a generation of Burmese youth at risk of losing educational opportunities and facing uncertain futures. \nThe photo exhibition by New Burma in collaboration with SEA Junction on 4- 16 March in the Curved Wall\, 5th Floor\, BACC\, displays photos by Nyein Chan Aung\, as a tribute to school teachers who\, as part of the CDM\, continue to live as fractured beings in the IDP camps of Karenni State. It seeks to illuminate the resilience of these individuals—people who have lost much but still carry the unyielding spark of resistance within them. Through their stories\, we witness not just the tragedy of displacement\, but the unbreakable will to educate\, to nurture\, and to keep alive the ideals of freedom and justice\, even from the deepest of human suffering. This exhibition does not only document their struggle; it amplifies their voices reminding us that even in the most dire of circumstances\, fragments can still form a whole\, and hope can still emerge from the ashes. \nThe exhibition will be launched with an opening event on 4 March at 6 pm at SEA Junction\, featuring a panel discussion titled “Where are the Schools?: Education in Fragility.” This panel will explore how educators\, communities\, and non-governmental organizations are adapting to current challenges in Burma. The discussion will highlight the creativity and determination of the Burmese people and the significant hardships faced by students and teachers; delve into the psychological and social impacts of these educational disruptions on children; consider the long-term implications for a generation that might miss out on formal education and for Burma’s future; and explore strategies for addressing these educational gaps taking into account the current conflict. \nPhotographer Bio \nNyein Chan Aung is a street photographer from Yangon\, Burma who started as a photographer to document urban life’s unadulterated beauty and soul. Combining his sense of detail and passion for storytelling\, he began documenting his city’s rich diversity of traditions\, customs\, and daily life. Due to the coup in Myanmar in 2021\, he moved to the Karenni State in 2024 where he began taking documentary photographs in the region of war\, capturing images of several lives—those of people defenders\, teachers\, internally displaced individuals\, and those in conflict zones. In terms of photography\, he is interested in documenting people’s lives and hardships\, such as those of children\, young people\, and grassroots fighting for their natural rights throughout the current revolution. \n \nFor more information\, please email: info@seajunction.org or phone/wa: +66970024140 \nNB: The exhibition and the opening event are free\, but donations are welcome to support SEA Junction and New Burma activities. \nOrganizers \nA New Burma (ANB) is a collective committed to promoting creative resistance\, advocacy\, and social movements to champion the rights of marginalized communities in Burma. With a focus on non-violent tactics\, ANB collaborates with the creative community to turn innovation and activism into advocacy tools against human rights violations. ANB provides training to pro-democracy leaders and activists\, enhance the creative resistance movement with resources and techniques\, and create civic spaces using arts and digital platforms in restrictive environments. Founded by individuals in exile\, ANB values the profound role of shared creativity and community in shaping identities and giving meaning to life beyond mere survival. ANB’s philosophy of Creative Resistance is about more than opposing oppression; it involves collectively envisioning and constructing a new\, democratic and inclusive future for all who consider Burma their home. \nSEA Junction \nSEA Junction\, established under the Thai non-profit organisation Foundation for Southeast Asia Studies (ForSEA)\, aims to foster understanding and appreciation of Southeast Asia in all its socio-cultural dimensions\, from arts and lifestyles to human rights\, gender\, migration and development. Conveniently located at Room 407-8 of the Bangkok Arts and Culture Center or BACC (across MBK\, BTS National Stadium)\, SEA Junction facilitates public education and access to knowledge resources and exchanges among students\, practitioners and Southeast Asia lovers. For more information\, see www.seajunction.org\, join the Facebook group:  http://www.facebook.com/groups/1693058870976440/ and follow us on Twitter (X)\, Bluesky and Instagram @seajunction \n
URL:https://seajunction.org/event/fragmentation-a-photo-exhibition-by-nyein-chan-aung/
LOCATION:5th Floor\, BACC
CATEGORIES:Event
END:VEVENT
BEGIN:VEVENT
DTSTART;TZID="Asia/Krasnoyarsk":20250315T150000
DTEND;TZID="Asia/Krasnoyarsk":20250315T170000
DTSTAMP:20260425T161344
CREATED:20250213T042722Z
LAST-MODIFIED:20250313T082833Z
UID:26957-1742050800-1742058000@seajunction.org
SUMMARY:การเปิดตัวหนังสือและการเสวนา “ร่างทรงเกย์ หมอดูกะเทย สบงหลากสี : ความหลากหลายทางเพศในศาสนาและพิธีกรรมสมัยใหม่” โดย ดร. ปีเตอร์ เอ. แจ็กสัน (Prof. Peter A. Jackson)
DESCRIPTION:หนังสือเล่มนี้พยายามทำความเข้าใจการมีส่วนร่วมของชาวเกย์และกะเทยในระบบความเชื่อของไทย ทั้งปฏิบัติการที่เกี่ยวข้องกับพุทธศาสนา การทำนายดวงชะตา และพิธีกรรมของร่างทรงและสิ่งศักดิ์สิทธิ์ โดยมีตัวอย่างพระและเณรที่มีอัตลักษณ์เป็นกะเทย บทบาทของเกย์และกะเทยในพิธีกรรมทางพุทธศาสนา อัตลักษณ์ของเกย์ที่บวชเป็นพระ การศึกษาหมอดูกะเทยอีสาน หมอดูเกย์และหญิงข้ามเพศบนโซเชียลมีเดีย ร่างทรงเกย์และกะเทยในพิธีกรรมบูชาพญานาคและพิธีกรรมการฟ้อนผีในจังหวัดลำปาง รวมไปถึงร่างทรงเกย์ล้านนา การศึกษาเหล่านี้ช่วยทำให้เข้าใจการปฏิบัติเชิงศาสนาและพิธีกรรมของเกย์และกะเทยในสังคมไทยในฐานะเป็นการดิ้นรนเพื่อให้ได้มาซึ่งความเคารพ เกียรติยศ ศักดิ์ศรี และการยอมรับทางสังคม \nทั่วทั้งประเทศไทย เกย์และกะเทยหรือหญิงข้ามเพศจำนวนมากที่ผันตัวมาเป็นหมอดูและร่างทรงที่ได้รับความเคารพ และมีจำนวนเพิ่มขึ้นอย่างต่อเนื่อง โลกวิญญาณไทยกำลังกลายเป็นพื้นที่ที่มีความหลากหลายทางเพศ (queer space) ที่ทักษะพิเศษของเกย์และหญิงข้ามเพศได้รับการยอมรับและที่ซึ่งชาวเควียร์สามารถได้รับเกียรติและความเคารพ  หนังสือ ร่างทรงเกย์ หมอดูกะเทย สบงหลากสี (Gay Spirit Mediums\, Trans Fortune Tellers\, Rainbow Robes) ซึ่งเพิ่งได้รับการตีพิมพ์เป็นภาษาไทยโดยศูนย์มานุษยวิทยาสิรินธรฯ จะมีการเปิดตัวที่ SEA Junction ในวันที่ 15 มีนาคม เวลา 15.00-17.00 น. หนังสือเล่มนี้นำเสนอการศึกษาล่าสุดเกี่ยวกับการมีส่วนร่วมของชายรักเพศเดียวกันและหญิงข้ามเพศในพระพุทธศาสนา การทำนายโชคชะตา และการเป็นร่างทรงวิญญาณในฐานะผู้เชี่ยวชาญทางพิธีกรรม โดยเป็นการนำเสนอผลการศึกษาจากการวิจัยเป็นระยะเวลาสองปีโดยทีมงานนักวิจัยไทยจำนวน 10 คนจากหลายภาคส่วนทั่วประเทศไทย บทความทั้ง 10 บทในหนังสือเล่าถึงวิธีที่ชาวเควียร์จากทุกภูมิภาคของประเทศกำลังได้รับความเคารพในสังคมในฐานะผู้เชี่ยวชาญด้านพิธีกรรมและพระพุทธศาสนา บรรณาธิการและผู้มีส่วนร่วมในหนังสือจะมานำเสนอผลสำคัญของการศึกษาครั้งนี้ และในงานนี้ผลงานอีกชิ้นของ ปีเตอร์ แจ็กสัน เรื่อง ไสยเวท เพศ ผี ร่างทรงองค์เควียร์ในอุษาคเนย์ (Deities and Divas: Queer Ritual Specialists in Myanmar\, Thailand and Beyond) ที่เพิ่งแปลเสร็จ จะได้รับการเปิดตัวเป็นครั้งแรกในงานนี้เช่นกัน โดย ดร. พิเชฐ สายพันธ์ ผู้แปลหนังสือ จะมาร่วมเสวนาในงานด้วย \nผู้ดำเนินรายการ \nวิทยา แสงอรุณ เป็นที่รู้จักในแวดวง LGBT+ ของประเทศไทยในฐานะผู้สร้างสรรค์และบุกเบิกงานมีเดียใหม่ๆ (Media Practitioner) เกี่ยวกับ LGBT+ ทั้งด้าน Social Justice งานบันเทิงเชิงสร้างสรรค์ และงานวิชาการมากกว่า 20 ปี ผ่านงานเขียนคอลัมน์ พ็อคเก็ตบุ๊ค รายการทีวีวิทยุ VDO ภาพยนตร์ การเรียนการสอน และอื่นๆ ปัจจุบัน วิทยาสร้างผลงานใหม่ๆ รวมถึงวงคอรัสเกย์วงแรกแห่งประเทศไทย และแคมเปญต่างๆ เพื่อผลักดันด้าน Diversity ในแวดวงธุรกิจ \nผู้ร่วมเสวนา \nดร. ปีเตอร์ เอ. แจ็กสัน (Peter A. Jackson) เป็นศาสตราจารย์กิตติคุณด้านประวัติศาสตร์และวัฒนธรรมศึกษาไทยในวิทยาลัยเอเชียและแปซิฟิก มหาวิทยาลัยแห่งชาติออสเตรเลีย สนใจในประวัติศาสตร์และวัฒนธรรมไทยสมัยใหม่เป็นพิเศษ โดยเฉพาะประวัติศาสตร์ของพุทธศาสนา พิธีกรรม เพศสภาพ และเพศวิถี หนังสือเล่มล่าสุดของ ปีเตอร์ เอ. แจ็กสัน คือ Capitalism Magic Thailand: Modernity with Enchantment (2022) (เทวา มนตรา คาถา เกจิ: ไสยศาสตร์สมัยใหม่กับทุน[ไทย]นิยม [2566]) Deities and Divas: Queer Ritual Specialists in Myanmar\, Thailand and Beyond (2022) และ Spirit Possession in Buddhist Southeast Asia (2022) \nดร. นฤพนธ์ ด้วงวิเศษ ปัจจุบันเป็นหัวหน้าฝ่ายวิจัยและส่งเสริมวิชาการ ศูนย์มานุษยวิทยาสิรินธร มีประสบการณ์ทำงานวิจัยในประเด็นเควียร์ศึกษา เพศวิถีศึกษา และมานุษยวิทยาวัฒนธรรม ผลงานวิชาการที่สำคัญ ได้แก่ เกย์ลอกคราบ (2549) เพศหลากเฉดสี (2556) เพศในเขาวงกต (2560) เมื่อร่างกลายเป็นเพศ (2560) นอกจากนั้นยังทำงานในประเด็นชุมชนท้องถิ่นและอัตลักษณ์ชาติพันธุ์ในบริบททุนนิยมโลกและการพัฒนาสมัยใหม่ ผลงานเช่น ชาติพันธุ์ใต้อำนาจ (2558) ชาติพันธุ์กับเสรีนิยมใหม่ (2557) และชุมชนที่เคลื่อนไหว (2566) \nดร. วิศิษย์ ปิ่นทองวิชัยกุล เป็นอาจารย์ด้านมานุษยวิทยา ประจำสาขาวิชาการพัฒนาชุมชน คณะมนุษยศาสตร์และสังคมศาสตร์ มหาวิทยาลัยราชภัฏจันทรเกษม มีความเชี่ยวชาญด้านมานุษยวิทยาศาสนา พิธีกรรม ความเชื่อ การทรงเจ้าเข้าผี สุขภาวะและสิ่งแวดล้อมในบริบทอีสานกับการพัฒนา ได้รับทุนวิจัย Georg Forster Research Fellowship จากกองทุน Alexander von Humboldt Foundation ประเทศเยอรมนี และทุนวิจัย Dr. James B. Pick and Dr. Rosalyn Laudati Southeast Asia Fellowship จาก The Northern Illinois University Libraries ประเทศสหรัฐอเมริกา มีบทความตีพิมพ์เผยแพร่ใน วารสารสังคมศาสตร์ Journal of Southeast Asian Studies และ American Anthropologist \nดร. พิเชฐ สายพันธ์  เป็นอาจารย์ด้านมานุษยวิทยา ประจำคณะสังคมวิทยาและมานุษยวิทยา มหาวิทยาลัยธรรมศาสตร์ มีความเชี่ยวชาญทางมานุษยวิทยาวัฒนธรรม มานุษยวิทยาเอเชียตะวันออกเฉียงใต้ ตีพิมพ์บทความทางเพศสภาพและเพศวิถีเรื่อง เกย์: ในฉากชีวิตแห่งสีลมสถาน (ศูนย์มานุษยวิทยาสิรินธร\, มปป.) หนังสือ พื้นที่พุทธศาสนากับการแสดงออกอัตลักษณ์ของผู้ไทสองฝั่งโขง (2564) มานุษยวิทยาเอเชียตะวันออกเฉียงใต้ (2566) และผู้แปลหนังสือ Deities and Divas: Queer Ritual Specialists in Myanmar\, Thailand and Beyond (2022) ไสยเวท เพศ ผี ร่างทรงองค์เควียร์ในอุษาคเนย์ (2567) \nนักเขียนท่านอื่นๆที่จะเข้าร่วมงาน  \nดร. กังวาฬ ฟองแก้ว อาจารย์ประจำภาควิชานิเทศศาสตร์ คณะมนุษยศาสตร์และสังคมศาสตร์ มหาวิทยาลัยบูรพา มีความสนใจในการศึกษาวิจัยเกี่ยวกับผู้มีความหลากหลายทางเพศในมิติทางนิเทศศาสตร์ สังคมศาสตร์ และสุขภาพ โดยเฉพาะประเด็นเกี่ยวกับ HIV/AIDS (ResearchGate: Kangwan Fongkaew) รวมทั้งเป็นที่ปรึกษาในโครงการต่าง ๆ ขององค์กรระดับชาติและนานาชาติ อาทิ UNDP UNESCO FHI360 กองทุนโลก และมูลนิธิแคร์แมท เป็นต้น \nอาจารย์ กิ่งแก้ว ทิศตึง จบการศึกษาศิลปศาสตรมหาบัณฑิต สาขาวิชาการพัฒนาสังคม มหาวิทยาลัยเชียงใหม่ ปัจจุบันเป็นอาจารย์ประจำสาขาวิชาการพัฒนาชุมชน คณะมนุษยศาสตร์และสังคมศาสตร์ มหาวิทยาลัยราชภัฏลำปาง มีความสนใจประเด็น เพศวิถี สิทธิชุมชน การพัฒนาชุมชนและสังคม ชายแดนศึกษาและชาติพันธุ์ \nอาจารย์ ธนุพงษ์ ลมอ่อน จบการศึกษาศิลปศาสตรมหาบัณฑิต สาขาวิชาการพัฒนาสังคม มหาวิทยาลัยเชียงใหม่ ปัจจุบันเป็นอาจารย์ประจำสาขาวิชาการพัฒนาชุมชน คณะมนุษยศาสตร์และสังคมศาสตร์ มหาวิทยาลัยราชภัฏลำปาง มีความสนใจและทำงานวิจัยด้าน ชาติพันธุ์ การพัฒนาชุมชน ชายแดนศึกษา และวัฒนธรรมและภูมิปัญญาท้องถิ่น \nดร. ณัฑพร มโนใจ อาจารย์ประจำสาขาวิชาเคมี คณะสหเวชศาสตร์ มหาวิทยาลัยปทุมธานี มีประสบการณ์ในการทำงานเกี่ยวกับสุขภาพและสิทธิของบุคคลที่มีความหลากหลายทางเพศมากกว่า 6 ปี เชี่ยวชาญในงานวิจัยเกี่ยวกับเอชไอวีและสุขภาพของคนข้ามเพศ และดำรงตำแหน่งคณะกรรมการมูลนิธิคนข้ามเพศแห่งภูมิภาคเอเชียแปซิฟิก (APTN) \nดร. ปุณณฑรีย์ เจียวิริยบุญญา (กอล์ฟ/ปุณณี่) เป็นนักมานุษยวิทยาเชื้อสายจีนที่เกิดและเติบโตในจังหวัดนครพนม มีประสบการณ์วิจัยภาคสนามด้านมานุษยวิทยาศาสนา พิธีกรรม ลัทธิบูชาพญานาคและการพยากรณ์ดวงชะตาในประเทศไทย กัมพูชาและ สปป. ลาว ความสนใจทางการวิจัยยังรวมถึงการบูรณาการกันระหว่างมานุษยวิทยาและประเด็นทางด้านสาธารณสุขมูลฐานและเครือข่ายทางสังคม ปัจจุบันเป็นอาจารย์ประจำสังกัดคณะศิลปศาสตร์และวิทยาศาสตร์ มหาวิทยาลัยนครพนม \nดร. วัชรวุฒิ ซื่อสัตย์ จบการศึกษาระดับปริญญาเอก สาขาวิชาเอเชียตะวันออกเฉียงใต้ศึกษา จากมหาวิทยาลัยนเรศวร ภายใต้การสนับสนุนทุนโครงการปริญญาเอกกาญจนภิเษก รุ่นที่ 15 และได้เข้าร่วมแลกเปลี่ยนการศึกษาวิจัย ณ สถาบันเอเชียแอฟริกาศึกษา มหาวิทยาลัยฮัมบูร์ก ประเทศเยอรมนี ปัจจุบันดำรงตำแหน่งอาจารย์ประจำภาควิชาสังคมวิทยาและมานุษยวิทยา คณะมนุษยศาสตร์และสังคมศาสตร์ มหาวิทยาลัยมหาสารคาม มีความสนใจการประเด็นการวิจัยที่เกี่ยวข้องกับเพศวิถี และกะเทยศึกษา ในบริบทของสังคมไทย โดยเฉพาะมิติด้านความเชื่อ พิธีกรรม และภูมิปัญญาท้องถิ่นของกะเทยในสังคมอีสาน \nดร. อนุชิต สิงห์สุวรรณ จบการศึกษาปริญญาเอก หลักสูตรปรัชญาดุษฎีบัณฑิต สาขาวิชาเอเชียตะวันออกเฉียงใต้ศึกษา มหาวิทยาลัยนเรศวร ปี 2562 ปัจจุบันเป็นอาจารย์ประจำคณะศิลปศาสตร์และวิทยาศาสตร์ มหาวิทยาลัยนครพนม มีความสนใจทางด้านประวัติศาสตร์ท้องถิ่น การจัดการท่องเที่ยวทางวัฒนธรรม ประวัติศาสตร์การเมืองและขบวนการเคลื่อนไหวทางสังคมในภาคอีสาน ผลงานที่สำคัญ เช่น โครงการนวัตกรรมด้านสังคม “นาหว้าพาเลาะ: นวัตกรรมท่องเที่ยววิถีถิ่น 5 ชนเผ่าชุมชนนาหว้า” สนับสนุนโดยสำนักงานนวัตกรรมแห่งชาติ (2565) โครงการวิจัย “การศึกษาแนวทางการจัดการองค์ความรู้เพื่อพัฒนาการท่องเที่ยวชุมชน กรณีศึกษาแหล่งเรียนรู้รอยตีนไดโนเสาร์ ตำบลพนอม อำเภอท่าอุเทน จังหวัดนครพนม” สนับสนุนโดยกองทุนจัดการซากดึกดำบรรพ์ กรมทรัพยากรธรณี (2563) และโครงการวิจัย “ประวัติศาสตร์และวัฒนธรรมชุมชนเมืองนครพนมเพื่อการพัฒนาระบบเทคโนโลยีและสารสนเทศในการส่งเสริมการท่องเที่ยว” สนับสนุนโดยกองทุนวิจัยและนวัตกรรม มหาวิทยาลัยนครพนม (2563) \n** \nงานของ SEA Junction สามารถเข้าร่วมได้โดยไม่มีค่าใช้จ่าย หากแต่เราจะยินดีเป็นอย่างยิ่งหากคุณร่วมบริจาคเพื่อเป็นการสมทบทุนสนับสนุนให้เราสามารถทำกิจกรรมอื่นๆ อีกในอนาคต \n \nจัดโดย \nSEA Junction มีเป้าหมายเพื่อกระชับความเข้าใจและความซาบซึ้งในเอเชียตะวันออกเฉียงใต้ ในทุกๆ มิติของสังคมวัฒนธรรม นับตั้งแต่ศิลปะ และวิถีชีวิต ไปจนถึงเศรษฐกิจและการพัฒนา ตั้งอยู่ที่ห้อง 408 ของหอศิลปวัฒนธรรมแห่งกรุงเทพมหานคร หรือ หอศิลป์ฯ กรุงเทพ (อยู่ตรงกันข้ามกับศูนย์การค้ามาบุญครอง ใกล้กับรถไฟฟ้าบีทีเอส สถานีศูนย์กีฬาแห่งชาติ) ซี จังชั่น อำนวยการให้สาธารณะเข้าถึงแหล่งความรู้ และการแลกเปลี่ยนระหว่างนักเรียนรักศึกษา\, นักปฏิบัติ และผู้ที่มีความชื่นชอบในเอเชียตะวันออกเฉียงใต้ สำหรับข้อมูลเพิ่มเติมโปรดดู www.seajunction.org \n
URL:https://seajunction.org/event/%e0%b8%81%e0%b8%b2%e0%b8%a3%e0%b9%80%e0%b8%9b%e0%b8%b4%e0%b8%94%e0%b8%95%e0%b8%b1%e0%b8%a7%e0%b8%ab%e0%b8%99%e0%b8%b1%e0%b8%87%e0%b8%aa%e0%b8%b7%e0%b8%ad%e0%b9%81%e0%b8%a5%e0%b8%b0%e0%b8%81%e0%b8%b2/
LOCATION:SEA Junction\, 4th floor\, BACC
CATEGORIES:Event
END:VEVENT
END:VCALENDAR